FILENAME: O4710758.SWS.1112153.tif
QUADRANGLE_NAME: BARNEY PINNACLE
QUADRANT: SW
WEST_LONGITUDE: -107 52 30.00000
EAST_LONGITUDE: -107 48 45.00000
NORTH_LATITUDE: 47 3 45.00000
SOUTH_LATITUDE: 47 0 0.00000
PRODUCTION_DATE: 2000 11 16
RASTER_ORDER: LEFT_RIGHT/TOP_BOTTOM
BAND_ORGANIZATION: SINGLE FILE
BAND_CONTENT: BLACK&WHITE
BAND_CONTENT: UNDEFINED
BAND_CONTENT: UNDEFINED
BITS_PER_PIXEL: 8
SAMPLES_AND_LINES: 5654 7721
HORIZONTAL_DATUM: NAD83
HORIZONTAL_COORDINATE_SYSTEM: UTM
COORDINATE_ZONE: 13
HORIZONTAL_UNITS: METERS
HORIZONTAL_RESOLUTION: 1.00000
SECONDARY_HORIZONTAL_DATUM: NAD27
XY_ORIGIN: 281081.00000 5216422.00000
SECONDARY_XY_ORIGIN: 281124.89100 5216202.85200
NATION: US
NATION: "SCIENCE
STATE: MT
NW_QUAD_CORNER_XY: 281687.97600 5216121.06000
NE_QUAD_CORNER_XY: 286433.61500 5215948.48000
SE_QUAD_CORNERY_XY: 286183.96500 5209003.62900
SW_QUAD_CORNER_XY: 281432.77000 5209176.23600
SECONDARY_NW_QUAD_XY: 281681.23800 5215902.62100
SECONDARY_NE_QUAD_XY: 286427.02300 5215730.03600
SECONDARY_SE_QUAD_XY: 286177.37400 5208785.21300
SECONDARY_SW_QUAD_XY: 281426.03300 5208957.82500
RMSE_XY: 2.40000
IMAGE_SOURCE: BLACK AND WHITE FILM
SOURCE_IMAGE_ID: NAPP 9132 056
SOURCE_IMAGE_DATE: 1996 07 29
SOURCE_IMAGE_ID: NAPP 9132 055
SOURCE_IMAGE_DATE: 1996 07 29
SOURCE_DEM_DATE: 1993 00 00
AGENCY: WESTERN MAPPING CENTER (WMC)
PRODUCER: UNDEFINED
PRODUCTION_SYSTEM: GIS/MAGIC
COMPRESSION: UNDEFINED
STANDARD_VERSION: 1996 12
METADATA_DATE: 2000 11 16
DATA_FILE_SIZE: 43660188
BYTE_COUNT: 5654
