FILENAME: O4710757.NES.1112126.tif
QUADRANGLE_NAME: FAIL RANCH
QUADRANT: NE
WEST_LONGITUDE: -107 56 15.00000
EAST_LONGITUDE: -107 52 30.00000
NORTH_LATITUDE: 47 7 30.00000
SOUTH_LATITUDE: 47 3 45.00000
PRODUCTION_DATE: 2000 11 16
RASTER_ORDER: LEFT_RIGHT/TOP_BOTTOM
BAND_ORGANIZATION: SINGLE FILE
BAND_CONTENT: BLACK&WHITE
BAND_CONTENT: UNDEFINED
BAND_CONTENT: UNDEFINED
BITS_PER_PIXEL: 8
SAMPLES_AND_LINES: 5655 7725
HORIZONTAL_DATUM: NAD83
HORIZONTAL_COORDINATE_SYSTEM: UTM
COORDINATE_ZONE: 13
HORIZONTAL_UNITS: METERS
HORIZONTAL_RESOLUTION: 1.00000
SECONDARY_HORIZONTAL_DATUM: NAD27
XY_ORIGIN: 276590.00000 5223544.00000
SECONDARY_XY_ORIGIN: 276633.85400 5223324.79900
NATION: US
NATION: "SCIENCE
STATE: MT
NW_QUAD_CORNER_XY: 277203.38500 5223242.29200
NE_QUAD_CORNER_XY: 281943.44300 5223065.94100
SE_QUAD_CORNERY_XY: 281687.97600 5216121.06000
SW_QUAD_CORNER_XY: 276942.35600 5216297.43900
SECONDARY_NW_QUAD_XY: 277196.50000 5223023.83200
SECONDARY_NE_QUAD_XY: 281936.70400 5222847.47500
SECONDARY_SE_QUAD_XY: 281681.23800 5215902.62100
SECONDARY_SW_QUAD_XY: 276935.47100 5216079.00600
RMSE_XY: 1.30000
IMAGE_SOURCE: BLACK AND WHITE FILM
SOURCE_IMAGE_ID: NAPP 9132 125
SOURCE_IMAGE_DATE: 1996 07 29
SOURCE_IMAGE_ID: NAPP 9132 126
SOURCE_IMAGE_DATE: 1996 07 29
SOURCE_IMAGE_ID: NAPP 9132 124
SOURCE_IMAGE_DATE: 1996 07 29
SOURCE_DEM_DATE: 1993 00 00
AGENCY: WESTERN MAPPING CENTER (WMC)
PRODUCER: UNDEFINED
PRODUCTION_SYSTEM: GIS/MAGIC
COMPRESSION: UNDEFINED
STANDARD_VERSION: 1996 12
METADATA_DATE: 2000 11 16
DATA_FILE_SIZE: 43690530
BYTE_COUNT: 5655
