FILENAME: O4710757.SES.1112128.tif
QUADRANGLE_NAME: FAIL RANCH
QUADRANT: SE
WEST_LONGITUDE: -107 56 15.00000
EAST_LONGITUDE: -107 52 30.00000
NORTH_LATITUDE: 47 3 45.00000
SOUTH_LATITUDE: 47 0 0.00000
PRODUCTION_DATE: 2000 11 16
RASTER_ORDER: LEFT_RIGHT/TOP_BOTTOM
BAND_ORGANIZATION: SINGLE FILE
BAND_CONTENT: BLACK&WHITE
BAND_CONTENT: UNDEFINED
BAND_CONTENT: UNDEFINED
BITS_PER_PIXEL: 8
SAMPLES_AND_LINES: 5660 7725
HORIZONTAL_DATUM: NAD83
HORIZONTAL_COORDINATE_SYSTEM: UTM
COORDINATE_ZONE: 13
HORIZONTAL_UNITS: METERS
HORIZONTAL_RESOLUTION: 1.00000
SECONDARY_HORIZONTAL_DATUM: NAD27
XY_ORIGIN: 276329.00000 5216599.00000
SECONDARY_XY_ORIGIN: 276372.93300 5216380.00600
NATION: US
NATION: "SCIENCE
STATE: MT
NW_QUAD_CORNER_XY: 276942.35600 5216297.43900
NE_QUAD_CORNER_XY: 281687.97600 5216121.06000
SE_QUAD_CORNERY_XY: 281432.77000 5209176.23600
SW_QUAD_CORNER_XY: 276681.59300 5209352.64200
SECONDARY_NW_QUAD_XY: 276935.47100 5216079.00600
SECONDARY_NE_QUAD_XY: 281681.23800 5215902.62100
SECONDARY_SE_QUAD_XY: 281426.03300 5208957.82500
SECONDARY_SW_QUAD_XY: 276674.70900 5209134.23700
RMSE_XY: 1.80000
IMAGE_SOURCE: BLACK AND WHITE FILM
SOURCE_IMAGE_ID: NAPP 9132 127
SOURCE_IMAGE_DATE: 1996 07 29
SOURCE_IMAGE_ID: NAPP 9132 128
SOURCE_IMAGE_DATE: 1996 07 29
SOURCE_DEM_DATE: 1993 00 00
AGENCY: WESTERN MAPPING CENTER (WMC)
PRODUCER: UNDEFINED
PRODUCTION_SYSTEM: GIS/MAGIC
COMPRESSION: UNDEFINED
STANDARD_VERSION: 1996 12
METADATA_DATE: 2000 11 16
DATA_FILE_SIZE: 43729160
BYTE_COUNT: 5660
