FILENAME: O4710757.SWS.1112129.tif
QUADRANGLE_NAME: FAIL RANCH
QUADRANT: SW
WEST_LONGITUDE: -108 0 0.00000
EAST_LONGITUDE: -107 56 15.00000
NORTH_LATITUDE: 47 3 45.00000
SOUTH_LATITUDE: 47 0 0.00000
PRODUCTION_DATE: 2000 11 16
RASTER_ORDER: LEFT_RIGHT/TOP_BOTTOM
BAND_ORGANIZATION: SINGLE FILE
BAND_CONTENT: BLACK&WHITE
BAND_CONTENT: UNDEFINED
BAND_CONTENT: UNDEFINED
BITS_PER_PIXEL: 8
SAMPLES_AND_LINES: 5666 7729
HORIZONTAL_DATUM: NAD83
HORIZONTAL_COORDINATE_SYSTEM: UTM
COORDINATE_ZONE: 13
HORIZONTAL_UNITS: METERS
HORIZONTAL_RESOLUTION: 1.00000
SECONDARY_HORIZONTAL_DATUM: NAD27
XY_ORIGIN: 271578.00000 5216779.00000
SECONDARY_XY_ORIGIN: 271621.97600 5216560.15900
NATION: US
NATION: "SCIENCE
STATE: MT
NW_QUAD_CORNER_XY: 272196.75500 5216477.61700
NE_QUAD_CORNER_XY: 276942.35600 5216297.43900
SE_QUAD_CORNERY_XY: 276681.59300 5209352.64200
SW_QUAD_CORNER_XY: 271930.43500 5209532.84800
SECONDARY_NW_QUAD_XY: 272189.72300 5216259.18900
SECONDARY_NE_QUAD_XY: 276935.47100 5216079.00600
SECONDARY_SE_QUAD_XY: 276674.70900 5209134.23700
SECONDARY_SW_QUAD_XY: 271923.40500 5209314.44800
RMSE_XY: 4.70000
IMAGE_SOURCE: BLACK AND WHITE FILM
SOURCE_IMAGE_ID: NAPP 9132 170
SOURCE_IMAGE_DATE: 1996 07 29
SOURCE_IMAGE_ID: NAPP 9132 171
SOURCE_IMAGE_DATE: 1996 07 29
SOURCE_DEM_DATE: 1993 00 00
AGENCY: WESTERN MAPPING CENTER (WMC)
PRODUCER: UNDEFINED
PRODUCTION_SYSTEM: GIS/MAGIC
COMPRESSION: UNDEFINED
STANDARD_VERSION: 1996 12
METADATA_DATE: 2000 11 16
DATA_FILE_SIZE: 43798180
BYTE_COUNT: 5666
