FILENAME: O4710756.SES.1115030.tif
QUADRANGLE_NAME: ZIEGELE COULEE
QUADRANT: SE
WEST_LONGITUDE: -107 3 45.00000
EAST_LONGITUDE: -107 0 0.00000
NORTH_LATITUDE: 47 11 15.00000
SOUTH_LATITUDE: 47 7 30.00000
PRODUCTION_DATE: 2000 11 16
RASTER_ORDER: LEFT_RIGHT/TOP_BOTTOM
BAND_ORGANIZATION: SINGLE FILE
BAND_CONTENT: BLACK&WHITE
BAND_CONTENT: UNDEFINED
BAND_CONTENT: UNDEFINED
BITS_PER_PIXEL: 8
SAMPLES_AND_LINES: 5568 7673
HORIZONTAL_DATUM: NAD83
HORIZONTAL_COORDINATE_SYSTEM: UTM
COORDINATE_ZONE: 13
HORIZONTAL_UNITS: METERS
HORIZONTAL_RESOLUTION: 1.00000
SECONDARY_HORIZONTAL_DATUM: NAD27
XY_ORIGIN: 343217.00000 5228366.00000
SECONDARY_XY_ORIGIN: 343259.80700 5228146.22300
NATION: US
NATION: "SCIENCE
STATE: MT
NW_QUAD_CORNER_XY: 343749.17900 5228064.13900
NE_QUAD_CORNER_XY: 348483.90500 5227940.95200
SE_QUAD_CORNERY_XY: 348306.07600 5220995.67700
SW_QUAD_CORNER_XY: 343565.78800 5221118.88400
SECONDARY_NW_QUAD_XY: 343744.34400 5227845.58700
SECONDARY_NE_QUAD_XY: 348479.21700 5227722.39600
SECONDARY_SE_QUAD_XY: 348301.38800 5220777.14700
SECONDARY_SW_QUAD_XY: 343560.95400 5220900.35800
RMSE_XY: 1.00000
IMAGE_SOURCE: BLACK AND WHITE FILM
SOURCE_IMAGE_ID: NAPP 9099 095
SOURCE_IMAGE_DATE: 1996 07 14
SOURCE_DEM_DATE: 1964 00 00
AGENCY: WESTERN MAPPING CENTER (WMC)
PRODUCER: UNDEFINED
PRODUCTION_SYSTEM: GIS/MAGIC
COMPRESSION: UNDEFINED
STANDARD_VERSION: 1996 12
METADATA_DATE: 2000 11 17
DATA_FILE_SIZE: 42728832
BYTE_COUNT: 5568
