FILENAME: O4710756.SWS.1115031.tif
QUADRANGLE_NAME: ZIEGELE COULEE
QUADRANT: SW
WEST_LONGITUDE: -107 7 30.00000
EAST_LONGITUDE: -107 3 45.00000
NORTH_LATITUDE: 47 11 15.00000
SOUTH_LATITUDE: 47 7 30.00000
PRODUCTION_DATE: 2000 11 16
RASTER_ORDER: LEFT_RIGHT/TOP_BOTTOM
BAND_ORGANIZATION: SINGLE FILE
BAND_CONTENT: BLACK&WHITE
BAND_CONTENT: UNDEFINED
BAND_CONTENT: UNDEFINED
BITS_PER_PIXEL: 8
SAMPLES_AND_LINES: 5575 7677
HORIZONTAL_DATUM: NAD83
HORIZONTAL_COORDINATE_SYSTEM: UTM
COORDINATE_ZONE: 13
HORIZONTAL_UNITS: METERS
HORIZONTAL_RESOLUTION: 1.00000
SECONDARY_HORIZONTAL_DATUM: NAD27
XY_ORIGIN: 338476.00000 5228493.00000
SECONDARY_XY_ORIGIN: 338518.91500 5228273.18100
NATION: US
NATION: "SCIENCE
STATE: MT
NW_QUAD_CORNER_XY: 339014.46600 5228191.12000
NE_QUAD_CORNER_XY: 343749.17900 5228064.13900
SE_QUAD_CORNERY_XY: 343565.78800 5221118.88400
SW_QUAD_CORNER_XY: 338825.51400 5221245.88600
SECONDARY_NW_QUAD_XY: 339009.48500 5227972.57200
SECONDARY_NE_QUAD_XY: 343744.34400 5227845.58700
SECONDARY_SE_QUAD_XY: 343560.95400 5220900.35800
SECONDARY_SW_QUAD_XY: 338820.53300 5221027.36400
RMSE_XY: 0.70000
IMAGE_SOURCE: BLACK AND WHITE FILM
SOURCE_IMAGE_ID: NAPP 10764 076
SOURCE_IMAGE_DATE: 1997 09 20
SOURCE_IMAGE_ID: NAPP 9099 095
SOURCE_IMAGE_DATE: 1996 07 14
SOURCE_DEM_DATE: 1964 00 00
AGENCY: WESTERN MAPPING CENTER (WMC)
PRODUCER: UNDEFINED
PRODUCTION_SYSTEM: GIS/MAGIC
COMPRESSION: UNDEFINED
STANDARD_VERSION: 1996 12
METADATA_DATE: 2000 11 17
DATA_FILE_SIZE: 42804850
BYTE_COUNT: 5575
