FILENAME: O4710755.SES.1114994.tif
QUADRANGLE_NAME: BIG DRY SCHOOL
QUADRANT: SE
WEST_LONGITUDE: -107 11 15.00000
EAST_LONGITUDE: -107 7 30.00000
NORTH_LATITUDE: 47 11 15.00000
SOUTH_LATITUDE: 47 7 30.00000
PRODUCTION_DATE: 2000 11 16
RASTER_ORDER: LEFT_RIGHT/TOP_BOTTOM
BAND_ORGANIZATION: SINGLE FILE
BAND_CONTENT: BLACK&WHITE
BAND_CONTENT: UNDEFINED
BAND_CONTENT: UNDEFINED
BITS_PER_PIXEL: 8
SAMPLES_AND_LINES: 5580 7681
HORIZONTAL_DATUM: NAD83
HORIZONTAL_COORDINATE_SYSTEM: UTM
COORDINATE_ZONE: 13
HORIZONTAL_UNITS: METERS
HORIZONTAL_RESOLUTION: 1.00000
SECONDARY_HORIZONTAL_DATUM: NAD27
XY_ORIGIN: 333736.00000 5228624.00000
SECONDARY_XY_ORIGIN: 333779.02200 5228404.13800
NATION: US
NATION: "SCIENCE
STATE: MT
NW_QUAD_CORNER_XY: 334279.76800 5228321.89500
NE_QUAD_CORNER_XY: 339014.46600 5228191.12000
SE_QUAD_CORNERY_XY: 338825.51400 5221245.88600
SW_QUAD_CORNER_XY: 334085.25400 5221376.68100
SECONDARY_NW_QUAD_XY: 334274.64000 5228103.35100
SECONDARY_NE_QUAD_XY: 339009.48500 5227972.57200
SECONDARY_SE_QUAD_XY: 338820.53300 5221027.36400
SECONDARY_SW_QUAD_XY: 334080.12700 5221158.16400
RMSE_XY: 0.60000
IMAGE_SOURCE: BLACK AND WHITE FILM
SOURCE_IMAGE_ID: NAPP 9100 008
SOURCE_IMAGE_DATE: 1996 07 14
SOURCE_IMAGE_ID: NAPP 10764 075
SOURCE_IMAGE_DATE: 1997 09 20
SOURCE_DEM_DATE: 1964 00 00
AGENCY: WESTERN MAPPING CENTER (WMC)
PRODUCER: UNDEFINED
PRODUCTION_SYSTEM: GIS/MAGIC
COMPRESSION: UNDEFINED
STANDARD_VERSION: 1996 12
METADATA_DATE: 2000 11 17
DATA_FILE_SIZE: 42865560
BYTE_COUNT: 5580
