FILENAME: O4710755.SWS.1114995.tif
QUADRANGLE_NAME: BIG DRY SCHOOL
QUADRANT: SW
WEST_LONGITUDE: -107 15 0.00000
EAST_LONGITUDE: -107 11 15.00000
NORTH_LATITUDE: 47 11 15.00000
SOUTH_LATITUDE: 47 7 30.00000
PRODUCTION_DATE: 2000 11 16
RASTER_ORDER: LEFT_RIGHT/TOP_BOTTOM
BAND_ORGANIZATION: SINGLE FILE
BAND_CONTENT: BLACK&WHITE
BAND_CONTENT: UNDEFINED
BAND_CONTENT: UNDEFINED
BITS_PER_PIXEL: 8
SAMPLES_AND_LINES: 5586 7684
HORIZONTAL_DATUM: NAD83
HORIZONTAL_COORDINATE_SYSTEM: UTM
COORDINATE_ZONE: 13
HORIZONTAL_UNITS: METERS
HORIZONTAL_RESOLUTION: 1.00000
SECONDARY_HORIZONTAL_DATUM: NAD27
XY_ORIGIN: 328995.00000 5228758.00000
SECONDARY_XY_ORIGIN: 329038.12900 5228538.09500
NATION: US
NATION: "SCIENCE
STATE: MT
NW_QUAD_CORNER_XY: 329545.08500 5228456.46300
NE_QUAD_CORNER_XY: 334279.76800 5228321.89500
SE_QUAD_CORNERY_XY: 334085.25400 5221376.68100
SW_QUAD_CORNER_XY: 329345.00800 5221511.27200
SECONDARY_NW_QUAD_XY: 329539.81100 5228237.92300
SECONDARY_NE_QUAD_XY: 334274.64000 5228103.35100
SECONDARY_SE_QUAD_XY: 334080.12700 5221158.16400
SECONDARY_SW_QUAD_XY: 329339.73500 5221292.75800
RMSE_XY: 1.50000
IMAGE_SOURCE: BLACK AND WHITE FILM
SOURCE_IMAGE_ID: NAPP 10765 034
SOURCE_IMAGE_DATE: 1997 09 23
SOURCE_DEM_DATE: 1964 00 00
AGENCY: WESTERN MAPPING CENTER (WMC)
PRODUCER: UNDEFINED
PRODUCTION_SYSTEM: GIS/MAGIC
COMPRESSION: UNDEFINED
STANDARD_VERSION: 1996 12
METADATA_DATE: 2000 11 17
DATA_FILE_SIZE: 42928410
BYTE_COUNT: 5586
