FILENAME: O4710754.NES.1114958.tif
QUADRANGLE_NAME: EDWARDS
QUADRANT: NE
WEST_LONGITUDE: -107 18 45.00000
EAST_LONGITUDE: -107 15 0.00000
NORTH_LATITUDE: 47 15 0.00000
SOUTH_LATITUDE: 47 11 15.00000
PRODUCTION_DATE: 2000 11 9
RASTER_ORDER: LEFT_RIGHT/TOP_BOTTOM
BAND_ORGANIZATION: SINGLE FILE
BAND_CONTENT: BLACK&WHITE
BAND_CONTENT: UNDEFINED
BAND_CONTENT: UNDEFINED
BITS_PER_PIXEL: 8
SAMPLES_AND_LINES: 5587 7688
HORIZONTAL_DATUM: NAD83
HORIZONTAL_COORDINATE_SYSTEM: UTM
COORDINATE_ZONE: 13
HORIZONTAL_UNITS: METERS
HORIZONTAL_RESOLUTION: 1.00000
SECONDARY_HORIZONTAL_DATUM: NAD27
XY_ORIGIN: 324460.00000 5235842.00000
SECONDARY_XY_ORIGIN: 324503.19600 5235621.95300
NATION: US
NATION: "SCIENCE
STATE: MT
NW_QUAD_CORNER_XY: 325016.26800 5235540.05900
NE_QUAD_CORNER_XY: 329745.36700 5235401.71900
SE_QUAD_CORNERY_XY: 329545.08500 5228456.46300
SW_QUAD_CORNER_XY: 324810.41800 5228594.82600
SECONDARY_NW_QUAD_XY: 325010.84600 5235321.49800
SECONDARY_NE_QUAD_XY: 329740.09100 5235183.15400
SECONDARY_SE_QUAD_XY: 329539.81100 5228237.92300
SECONDARY_SW_QUAD_XY: 324804.99700 5228376.29000
RMSE_XY: 2.20000
IMAGE_SOURCE: BLACK AND WHITE FILM
SOURCE_IMAGE_ID: NAPP 9135 017
SOURCE_IMAGE_DATE: 1996 08 19
SOURCE_IMAGE_ID: NAPP 9135 018
SOURCE_IMAGE_DATE: 1996 08 19
SOURCE_DEM_DATE: 1993 00 00
AGENCY: WESTERN MAPPING CENTER (WMC)
PRODUCER: UNDEFINED
PRODUCTION_SYSTEM: GIS/MAGIC
COMPRESSION: UNDEFINED
STANDARD_VERSION: 1996 12
METADATA_DATE: 2000 11 17
DATA_FILE_SIZE: 42958443
BYTE_COUNT: 5587
