FILENAME: O4710754.SES.1114960.tif
QUADRANGLE_NAME: EDWARDS
QUADRANT: SE
WEST_LONGITUDE: -107 18 45.00000
EAST_LONGITUDE: -107 15 0.00000
NORTH_LATITUDE: 47 11 15.00000
SOUTH_LATITUDE: 47 7 30.00000
PRODUCTION_DATE: 2000 11 9
RASTER_ORDER: LEFT_RIGHT/TOP_BOTTOM
BAND_ORGANIZATION: SINGLE FILE
BAND_CONTENT: BLACK&WHITE
BAND_CONTENT: UNDEFINED
BAND_CONTENT: UNDEFINED
BITS_PER_PIXEL: 8
SAMPLES_AND_LINES: 5592 7688
HORIZONTAL_DATUM: NAD83
HORIZONTAL_COORDINATE_SYSTEM: UTM
COORDINATE_ZONE: 13
HORIZONTAL_UNITS: METERS
HORIZONTAL_RESOLUTION: 1.00000
SECONDARY_HORIZONTAL_DATUM: NAD27
XY_ORIGIN: 324255.00000 5228897.00000
SECONDARY_XY_ORIGIN: 324298.20400 5228677.08300
NATION: US
NATION: "SCIENCE
STATE: MT
NW_QUAD_CORNER_XY: 324810.41800 5228594.82600
NE_QUAD_CORNER_XY: 329545.08500 5228456.46300
SE_QUAD_CORNERY_XY: 329345.00800 5221511.27200
SW_QUAD_CORNER_XY: 324604.77800 5221649.65700
SECONDARY_NW_QUAD_XY: 324804.99700 5228376.29000
SECONDARY_NE_QUAD_XY: 329539.81100 5228237.92300
SECONDARY_SE_QUAD_XY: 329339.73500 5221292.75800
SECONDARY_SW_QUAD_XY: 324599.35700 5221431.14700
RMSE_XY: 2.30000
IMAGE_SOURCE: BLACK AND WHITE FILM
SOURCE_IMAGE_ID: NAPP 9135 015
SOURCE_IMAGE_DATE: 1996 08 19
SOURCE_IMAGE_ID: NAPP 9135 016
SOURCE_IMAGE_DATE: 1996 08 19
SOURCE_DEM_DATE: 1993 00 00
AGENCY: WESTERN MAPPING CENTER (WMC)
PRODUCER: UNDEFINED
PRODUCTION_SYSTEM: GIS/MAGIC
COMPRESSION: UNDEFINED
STANDARD_VERSION: 1996 12
METADATA_DATE: 2000 11 17
DATA_FILE_SIZE: 42996888
BYTE_COUNT: 5592
