FILENAME: O4710754.SWS.1114961.tif
QUADRANGLE_NAME: EDWARDS
QUADRANT: SW
WEST_LONGITUDE: -107 22 30.00000
EAST_LONGITUDE: -107 18 45.00000
NORTH_LATITUDE: 47 11 15.00000
SOUTH_LATITUDE: 47 7 30.00000
PRODUCTION_DATE: 2000 11 9
RASTER_ORDER: LEFT_RIGHT/TOP_BOTTOM
BAND_ORGANIZATION: SINGLE FILE
BAND_CONTENT: BLACK&WHITE
BAND_CONTENT: UNDEFINED
BAND_CONTENT: UNDEFINED
BITS_PER_PIXEL: 8
SAMPLES_AND_LINES: 5598 7692
HORIZONTAL_DATUM: NAD83
HORIZONTAL_COORDINATE_SYSTEM: UTM
COORDINATE_ZONE: 13
HORIZONTAL_UNITS: METERS
HORIZONTAL_RESOLUTION: 1.00000
SECONDARY_HORIZONTAL_DATUM: NAD27
XY_ORIGIN: 319514.00000 5229039.00000
SECONDARY_XY_ORIGIN: 319557.28100 5228819.06800
NATION: US
NATION: "SCIENCE
STATE: MT
NW_QUAD_CORNER_XY: 320075.76600 5228736.98300
NE_QUAD_CORNER_XY: 324810.41800 5228594.82600
SE_QUAD_CORNERY_XY: 324604.77800 5221649.65700
SW_QUAD_CORNER_XY: 319864.56200 5221791.83700
SECONDARY_NW_QUAD_XY: 320070.19800 5228518.45200
SECONDARY_NE_QUAD_XY: 324804.99700 5228376.29000
SECONDARY_SE_QUAD_XY: 324599.35700 5221431.14700
SECONDARY_SW_QUAD_XY: 319858.99600 5221573.33200
RMSE_XY: 2.10000
IMAGE_SOURCE: BLACK AND WHITE FILM
SOURCE_IMAGE_ID: NAPP 9133 108
SOURCE_IMAGE_DATE: 1996 08 08
SOURCE_DEM_DATE: 1993 00 00
AGENCY: WESTERN MAPPING CENTER (WMC)
PRODUCER: UNDEFINED
PRODUCTION_SYSTEM: GIS/MAGIC
COMPRESSION: UNDEFINED
STANDARD_VERSION: 1996 12
METADATA_DATE: 2000 11 17
DATA_FILE_SIZE: 43065414
BYTE_COUNT: 5598
