FILENAME: O4710753.NES.1112206.tif
QUADRANGLE_NAME: TWIN BUTTES
QUADRANT: NE
WEST_LONGITUDE: -107 26 15.00000
EAST_LONGITUDE: -107 22 30.00000
NORTH_LATITUDE: 47 15 0.00000
SOUTH_LATITUDE: 47 11 15.00000
PRODUCTION_DATE: 2000 11 7
RASTER_ORDER: LEFT_RIGHT/TOP_BOTTOM
BAND_ORGANIZATION: SINGLE FILE
BAND_CONTENT: BLACK&WHITE
BAND_CONTENT: UNDEFINED
BAND_CONTENT: UNDEFINED
BITS_PER_PIXEL: 8
SAMPLES_AND_LINES: 5598 7696
HORIZONTAL_DATUM: NAD83
HORIZONTAL_COORDINATE_SYSTEM: UTM
COORDINATE_ZONE: 13
HORIZONTAL_UNITS: METERS
HORIZONTAL_RESOLUTION: 1.00000
SECONDARY_HORIZONTAL_DATUM: NAD27
XY_ORIGIN: 314991.00000 5236130.00000
SECONDARY_XY_ORIGIN: 315034.33300 5235909.90200
NATION: US
NATION: "SCIENCE
STATE: MT
NW_QUAD_CORNER_XY: 315558.11900 5235828.11900
NE_QUAD_CORNER_XY: 320287.18500 5235682.19200
SE_QUAD_CORNERY_XY: 320075.76600 5228736.98300
SW_QUAD_CORNER_XY: 315341.13000 5228882.93500
SECONDARY_NW_QUAD_XY: 315552.40400 5235609.56700
SECONDARY_NE_QUAD_XY: 320281.61600 5235463.63500
SECONDARY_SE_QUAD_XY: 320070.19800 5228518.45200
SECONDARY_SW_QUAD_XY: 315335.41600 5228664.40800
RMSE_XY: 1.00000
IMAGE_SOURCE: BLACK AND WHITE FILM
SOURCE_IMAGE_ID: NAPP 9133 113
SOURCE_IMAGE_DATE: 1996 08 08
SOURCE_DEM_DATE: 1993 00 00
AGENCY: WESTERN MAPPING CENTER (WMC)
PRODUCER: UNDEFINED
PRODUCTION_SYSTEM: GIS/MAGIC
COMPRESSION: UNDEFINED
STANDARD_VERSION: 1996 12
METADATA_DATE: 2000 11 16
DATA_FILE_SIZE: 43087806
BYTE_COUNT: 5598
