FILENAME: O4710753.SWS.1112209.tif
QUADRANGLE_NAME: TWIN BUTTES
QUADRANT: SW
WEST_LONGITUDE: -107 30 0.00000
EAST_LONGITUDE: -107 26 15.00000
NORTH_LATITUDE: 47 11 15.00000
SOUTH_LATITUDE: 47 7 30.00000
PRODUCTION_DATE: 2000 11 7
RASTER_ORDER: LEFT_RIGHT/TOP_BOTTOM
BAND_ORGANIZATION: SINGLE FILE
BAND_CONTENT: BLACK&WHITE
BAND_CONTENT: UNDEFINED
BAND_CONTENT: UNDEFINED
BITS_PER_PIXEL: 8
SAMPLES_AND_LINES: 5610 7700
HORIZONTAL_DATUM: NAD83
HORIZONTAL_COORDINATE_SYSTEM: UTM
COORDINATE_ZONE: 13
HORIZONTAL_UNITS: METERS
HORIZONTAL_RESOLUTION: 1.00000
SECONDARY_HORIZONTAL_DATUM: NAD27
XY_ORIGIN: 310033.00000 5229335.00000
SECONDARY_XY_ORIGIN: 310076.43500 5229115.03500
NATION: US
NATION: "SCIENCE
STATE: MT
NW_QUAD_CORNER_XY: 310606.51100 5229032.68200
NE_QUAD_CORNER_XY: 315341.13000 5228882.93500
SE_QUAD_CORNERY_XY: 315124.36300 5221937.81300
SW_QUAD_CORNER_XY: 310384.18000 5222087.58400
SECONDARY_NW_QUAD_XY: 310600.65000 5228814.16000
SECONDARY_NE_QUAD_XY: 315335.41600 5228664.40800
SECONDARY_SE_QUAD_XY: 315118.64900 5221719.31200
SECONDARY_SW_QUAD_XY: 310378.32000 5221869.08800
RMSE_XY: 0.90000
IMAGE_SOURCE: BLACK AND WHITE FILM
SOURCE_IMAGE_ID: NAPP 9133 254
SOURCE_IMAGE_DATE: 1996 08 08
SOURCE_IMAGE_ID: NAPP 9133 255
SOURCE_IMAGE_DATE: 1996 08 08
SOURCE_DEM_DATE: 1993 00 00
AGENCY: WESTERN MAPPING CENTER (WMC)
PRODUCER: UNDEFINED
PRODUCTION_SYSTEM: GIS/MAGIC
COMPRESSION: UNDEFINED
STANDARD_VERSION: 1996 12
METADATA_DATE: 2000 11 16
DATA_FILE_SIZE: 43202610
BYTE_COUNT: 5610
