FILENAME: O4710752.SES.1112184.tif
QUADRANGLE_NAME: COFFIN BUTTE
QUADRANT: SE
WEST_LONGITUDE: -107 33 45.00000
EAST_LONGITUDE: -107 30 0.00000
NORTH_LATITUDE: 47 11 15.00000
SOUTH_LATITUDE: 47 7 30.00000
PRODUCTION_DATE: 2000 11 7
RASTER_ORDER: LEFT_RIGHT/TOP_BOTTOM
BAND_ORGANIZATION: SINGLE FILE
BAND_CONTENT: BLACK&WHITE
BAND_CONTENT: UNDEFINED
BAND_CONTENT: UNDEFINED
BITS_PER_PIXEL: 8
SAMPLES_AND_LINES: 5615 7703
HORIZONTAL_DATUM: NAD83
HORIZONTAL_COORDINATE_SYSTEM: UTM
COORDINATE_ZONE: 13
HORIZONTAL_UNITS: METERS
HORIZONTAL_RESOLUTION: 1.00000
SECONDARY_HORIZONTAL_DATUM: NAD27
XY_ORIGIN: 305293.00000 5229488.00000
SECONDARY_XY_ORIGIN: 305336.49500 5229268.07200
NATION: US
NATION: "SCIENCE
STATE: MT
NW_QUAD_CORNER_XY: 305871.90900 5229186.22400
NE_QUAD_CORNER_XY: 310606.51100 5229032.68200
SE_QUAD_CORNERY_XY: 310384.18000 5222087.58400
SW_QUAD_CORNER_XY: 305644.01300 5222241.15200
SECONDARY_NW_QUAD_XY: 305865.90200 5228967.70700
SECONDARY_NE_QUAD_XY: 310600.65000 5228814.16000
SECONDARY_SE_QUAD_XY: 310378.32000 5221869.08800
SECONDARY_SW_QUAD_XY: 305638.00600 5222022.66000
RMSE_XY: 1.30000
IMAGE_SOURCE: BLACK AND WHITE FILM
SOURCE_IMAGE_ID: NAPP 9135 022
SOURCE_IMAGE_DATE: 1996 08 19
SOURCE_DEM_DATE: 1993 00 00
AGENCY: WESTERN MAPPING CENTER (WMC)
PRODUCER: UNDEFINED
PRODUCTION_SYSTEM: GIS/MAGIC
COMPRESSION: UNDEFINED
STANDARD_VERSION: 1996 12
METADATA_DATE: 2000 11 16
DATA_FILE_SIZE: 43257960
BYTE_COUNT: 5615
