FILENAME: O4710752.SWS.1112185.tif
QUADRANGLE_NAME: COFFIN BUTTE
QUADRANT: SW
WEST_LONGITUDE: -107 37 30.00000
EAST_LONGITUDE: -107 33 45.00000
NORTH_LATITUDE: 47 11 15.00000
SOUTH_LATITUDE: 47 7 30.00000
PRODUCTION_DATE: 2000 11 6
RASTER_ORDER: LEFT_RIGHT/TOP_BOTTOM
BAND_ORGANIZATION: SINGLE FILE
BAND_CONTENT: BLACK&WHITE
BAND_CONTENT: UNDEFINED
BAND_CONTENT: UNDEFINED
BITS_PER_PIXEL: 8
SAMPLES_AND_LINES: 5620 7706
HORIZONTAL_DATUM: NAD83
HORIZONTAL_COORDINATE_SYSTEM: UTM
COORDINATE_ZONE: 13
HORIZONTAL_UNITS: METERS
HORIZONTAL_RESOLUTION: 1.00000
SECONDARY_HORIZONTAL_DATUM: NAD27
XY_ORIGIN: 300553.00000 5229645.00000
SECONDARY_XY_ORIGIN: 300596.55700 5229425.10400
NATION: US
NATION: "SCIENCE
STATE: MT
NW_QUAD_CORNER_XY: 301137.32500 5229343.56200
NE_QUAD_CORNER_XY: 305871.90900 5229186.22400
SE_QUAD_CORNERY_XY: 305644.01300 5222241.15200
SW_QUAD_CORNER_XY: 300903.86300 5222398.51500
SECONDARY_NW_QUAD_XY: 301131.17100 5229125.05000
SECONDARY_NE_QUAD_XY: 305865.90200 5228967.70700
SECONDARY_SE_QUAD_XY: 305638.00600 5222022.66000
SECONDARY_SW_QUAD_XY: 300897.71000 5222180.02900
RMSE_XY: 1.90000
IMAGE_SOURCE: BLACK AND WHITE FILM
SOURCE_IMAGE_ID: NAPP 9131 034
SOURCE_IMAGE_DATE: 1996 07 29
SOURCE_IMAGE_ID: NAPP 9131 035
SOURCE_IMAGE_DATE: 1996 07 29
SOURCE_DEM_DATE: 1993 00 00
AGENCY: WESTERN MAPPING CENTER (WMC)
PRODUCER: UNDEFINED
PRODUCTION_SYSTEM: GIS/MAGIC
COMPRESSION: UNDEFINED
STANDARD_VERSION: 1996 12
METADATA_DATE: 2000 11 16
DATA_FILE_SIZE: 43313340
BYTE_COUNT: 5620
