FILENAME: O4710751.NWS.1112175.tif
QUADRANGLE_NAME: SEARL COULEE
QUADRANT: NW
WEST_LONGITUDE: -107 45 0.00000
EAST_LONGITUDE: -107 41 15.00000
NORTH_LATITUDE: 47 15 0.00000
SOUTH_LATITUDE: 47 11 15.00000
PRODUCTION_DATE: 2000 11 16
RASTER_ORDER: LEFT_RIGHT/TOP_BOTTOM
BAND_ORGANIZATION: SINGLE FILE
BAND_CONTENT: BLACK&WHITE
BAND_CONTENT: UNDEFINED
BAND_CONTENT: UNDEFINED
BITS_PER_PIXEL: 8
SAMPLES_AND_LINES: 5627 7715
HORIZONTAL_DATUM: NAD83
HORIZONTAL_COORDINATE_SYSTEM: UTM
COORDINATE_ZONE: 13
HORIZONTAL_UNITS: METERS
HORIZONTAL_RESOLUTION: 1.00000
SECONDARY_HORIZONTAL_DATUM: NAD27
XY_ORIGIN: 291317.00000 5236917.00000
SECONDARY_XY_ORIGIN: 291360.61600 5236696.98800
NATION: US
NATION: "SCIENCE
STATE: MT
NW_QUAD_CORNER_XY: 291913.05400 5236614.68000
NE_QUAD_CORNER_XY: 296642.03000 5236449.77700
SE_QUAD_CORNERY_XY: 296402.75900 5229504.69700
SW_QUAD_CORNER_XY: 291668.21100 5229669.62700
SECONDARY_NW_QUAD_XY: 291906.60600 5236396.15200
SECONDARY_NE_QUAD_XY: 296635.72900 5236231.24400
SECONDARY_SE_QUAD_XY: 296396.45800 5229286.18900
SECONDARY_SW_QUAD_XY: 291661.76400 5229451.12500
RMSE_XY: 2.60000
IMAGE_SOURCE: BLACK AND WHITE FILM
SOURCE_IMAGE_ID: NAPP 9131 175
SOURCE_IMAGE_DATE: 1996 07 29
SOURCE_IMAGE_ID: NAPP 9131 174
SOURCE_IMAGE_DATE: 1996 07 29
SOURCE_DEM_DATE: 1993 00 00
AGENCY: WESTERN MAPPING CENTER (WMC)
PRODUCER: UNDEFINED
PRODUCTION_SYSTEM: GIS/MAGIC
COMPRESSION: UNDEFINED
STANDARD_VERSION: 1996 12
METADATA_DATE: 2000 11 16
DATA_FILE_SIZE: 43417932
BYTE_COUNT: 5627
