FILENAME: O4710749.SWS.1112125.tif
QUADRANGLE_NAME: BRIDGE COULEE
QUADRANT: SW
WEST_LONGITUDE: -108 0 0.00000
EAST_LONGITUDE: -107 56 15.00000
NORTH_LATITUDE: 47 11 15.00000
SOUTH_LATITUDE: 47 7 30.00000
PRODUCTION_DATE: 2000 11 16
RASTER_ORDER: LEFT_RIGHT/TOP_BOTTOM
BAND_ORGANIZATION: SINGLE FILE
BAND_CONTENT: BLACK&WHITE
BAND_CONTENT: UNDEFINED
BAND_CONTENT: UNDEFINED
BITS_PER_PIXEL: 8
SAMPLES_AND_LINES: 5655 7729
HORIZONTAL_DATUM: NAD83
HORIZONTAL_COORDINATE_SYSTEM: UTM
COORDINATE_ZONE: 13
HORIZONTAL_UNITS: METERS
HORIZONTAL_RESOLUTION: 1.00000
SECONDARY_HORIZONTAL_DATUM: NAD27
XY_ORIGIN: 272111.00000 5230669.00000
SECONDARY_XY_ORIGIN: 272154.80700 5230449.73000
NATION: US
NATION: "SCIENCE
STATE: MT
NW_QUAD_CORNER_XY: 272730.21200 5230367.32100
NE_QUAD_CORNER_XY: 277464.68200 5230187.20100
SE_QUAD_CORNERY_XY: 277203.38500 5223242.29200
SW_QUAD_CORNER_XY: 272463.34700 5223422.44100
SECONDARY_NW_QUAD_XY: 272723.17800 5230148.84000
SECONDARY_NE_QUAD_XY: 277457.79500 5229968.71500
SECONDARY_SE_QUAD_XY: 277196.50000 5223023.83200
SECONDARY_SW_QUAD_XY: 272456.31500 5223203.98600
RMSE_XY: 1.70000
IMAGE_SOURCE: BLACK AND WHITE FILM
SOURCE_IMAGE_ID: NAPP 9132 174
SOURCE_IMAGE_DATE: 1996 07 29
SOURCE_IMAGE_ID: NAPP 9132 173
SOURCE_IMAGE_DATE: 1996 07 29
SOURCE_IMAGE_ID: NAPP 9132 175
SOURCE_IMAGE_DATE: 1996 07 29
SOURCE_DEM_DATE: 1993 00 00
AGENCY: WESTERN MAPPING CENTER (WMC)
PRODUCER: UNDEFINED
PRODUCTION_SYSTEM: GIS/MAGIC
COMPRESSION: UNDEFINED
STANDARD_VERSION: 1996 12
METADATA_DATE: 2000 11 16
DATA_FILE_SIZE: 43713150
BYTE_COUNT: 5655
