FILENAME: O4710747.SES.1115010.tif
QUADRANGLE_NAME: SMOKY BUTTE CREEK
QUADRANT: SE
WEST_LONGITUDE: -107 11 15.00000
EAST_LONGITUDE: -107 7 30.00000
NORTH_LATITUDE: 47 18 45.00000
SOUTH_LATITUDE: 47 15 0.00000
PRODUCTION_DATE: 2000 11 16
RASTER_ORDER: LEFT_RIGHT/TOP_BOTTOM
BAND_ORGANIZATION: SINGLE FILE
BAND_CONTENT: BLACK&WHITE
BAND_CONTENT: UNDEFINED
BAND_CONTENT: UNDEFINED
BITS_PER_PIXEL: 8
SAMPLES_AND_LINES: 5569 7680
HORIZONTAL_DATUM: NAD83
HORIZONTAL_COORDINATE_SYSTEM: UTM
COORDINATE_ZONE: 13
HORIZONTAL_UNITS: METERS
HORIZONTAL_RESOLUTION: 1.00000
SECONDARY_HORIZONTAL_DATUM: NAD27
XY_ORIGIN: 334125.00000 5242514.00000
SECONDARY_XY_ORIGIN: 334168.02800 5242293.91700
NATION: US
NATION: "SCIENCE
STATE: MT
NW_QUAD_CORNER_XY: 334669.39300 5242212.51700
NE_QUAD_CORNER_XY: 339392.94900 5242081.78700
SE_QUAD_CORNERY_XY: 339203.61100 5235136.42100
SW_QUAD_CORNER_XY: 334474.48100 5235267.17300
SECONDARY_NW_QUAD_XY: 334664.26300 5241993.92300
SECONDARY_NE_QUAD_XY: 339387.96600 5241863.18900
SECONDARY_SE_QUAD_XY: 339198.62900 5234917.84700
SECONDARY_SW_QUAD_XY: 334469.35300 5235048.60400
RMSE_XY: 1.00000
IMAGE_SOURCE: BLACK AND WHITE FILM
SOURCE_IMAGE_ID: NAPP 9101 232
SOURCE_IMAGE_DATE: 1996 07 15
SOURCE_DEM_DATE: 1979 00 00
AGENCY: WESTERN MAPPING CENTER (WMC)
PRODUCER: UNDEFINED
PRODUCTION_SYSTEM: GIS/MAGIC
COMPRESSION: UNDEFINED
STANDARD_VERSION: 1996 12
METADATA_DATE: 2000 11 17
DATA_FILE_SIZE: 42775489
BYTE_COUNT: 5569
