FILENAME: O4710746.SES.1114976.tif
QUADRANGLE_NAME: STEVE FORKS
QUADRANT: SE
WEST_LONGITUDE: -107 18 45.00000
EAST_LONGITUDE: -107 15 0.00000
NORTH_LATITUDE: 47 18 45.00000
SOUTH_LATITUDE: 47 15 0.00000
PRODUCTION_DATE: 2000 11 9
RASTER_ORDER: LEFT_RIGHT/TOP_BOTTOM
BAND_ORGANIZATION: SINGLE FILE
BAND_CONTENT: BLACK&WHITE
BAND_CONTENT: UNDEFINED
BAND_CONTENT: UNDEFINED
BITS_PER_PIXEL: 8
SAMPLES_AND_LINES: 5581 7688
HORIZONTAL_DATUM: NAD83
HORIZONTAL_COORDINATE_SYSTEM: UTM
COORDINATE_ZONE: 13
HORIZONTAL_UNITS: METERS
HORIZONTAL_RESOLUTION: 1.00000
SECONDARY_HORIZONTAL_DATUM: NAD27
XY_ORIGIN: 324666.00000 5242787.00000
SECONDARY_XY_ORIGIN: 324709.19400 5242566.85600
NATION: US
NATION: "SCIENCE
STATE: MT
NW_QUAD_CORNER_XY: 325222.32700 5242485.35500
NE_QUAD_CORNER_XY: 329945.85200 5242347.04000
SE_QUAD_CORNERY_XY: 329745.36700 5235401.71900
SW_QUAD_CORNER_XY: 325016.26800 5235540.05900
SECONDARY_NW_QUAD_XY: 325216.90400 5242266.77000
SECONDARY_NE_QUAD_XY: 329940.57600 5242128.45000
SECONDARY_SE_QUAD_XY: 329740.09100 5235183.15400
SECONDARY_SW_QUAD_XY: 325010.84600 5235321.49800
RMSE_XY: 1.10000
IMAGE_SOURCE: BLACK AND WHITE FILM
SOURCE_IMAGE_ID: NAPP 9127 056
SOURCE_IMAGE_DATE: 1996 07 15
SOURCE_DEM_DATE: 1979 00 00
AGENCY: WESTERN MAPPING CENTER (WMC)
PRODUCER: UNDEFINED
PRODUCTION_SYSTEM: GIS/MAGIC
COMPRESSION: UNDEFINED
STANDARD_VERSION: 1996 12
METADATA_DATE: 2000 11 17
DATA_FILE_SIZE: 42912309
BYTE_COUNT: 5581
