FILENAME: O4710745.SES.1112216.tif
QUADRANGLE_NAME: STEVE FORKS SW
QUADRANT: SE
WEST_LONGITUDE: -107 26 15.00000
EAST_LONGITUDE: -107 22 30.00000
NORTH_LATITUDE: 47 18 45.00000
SOUTH_LATITUDE: 47 15 0.00000
PRODUCTION_DATE: 2000 11 7
RASTER_ORDER: LEFT_RIGHT/TOP_BOTTOM
BAND_ORGANIZATION: SINGLE FILE
BAND_CONTENT: BLACK&WHITE
BAND_CONTENT: UNDEFINED
BAND_CONTENT: UNDEFINED
BITS_PER_PIXEL: 8
SAMPLES_AND_LINES: 5592 7695
HORIZONTAL_DATUM: NAD83
HORIZONTAL_COORDINATE_SYSTEM: UTM
COORDINATE_ZONE: 13
HORIZONTAL_UNITS: METERS
HORIZONTAL_RESOLUTION: 1.00000
SECONDARY_HORIZONTAL_DATUM: NAD27
XY_ORIGIN: 315208.00000 5243075.00000
SECONDARY_XY_ORIGIN: 315251.32500 5242854.81100
NATION: US
NATION: "SCIENCE
STATE: MT
NW_QUAD_CORNER_XY: 315775.32800 5242773.36600
NE_QUAD_CORNER_XY: 320498.81900 5242627.46400
SE_QUAD_CORNERY_XY: 320287.18500 5235682.19200
SW_QUAD_CORNER_XY: 315558.11900 5235828.11900
SECONDARY_NW_QUAD_XY: 315769.61200 5242554.79000
SECONDARY_NE_QUAD_XY: 320493.25000 5242408.88300
SECONDARY_SE_QUAD_XY: 320281.61600 5235463.63500
SECONDARY_SW_QUAD_XY: 315552.40400 5235609.56700
RMSE_XY: 1.20000
IMAGE_SOURCE: BLACK AND WHITE FILM
SOURCE_IMAGE_ID: NAPP 9127 162
SOURCE_IMAGE_DATE: 1996 07 15
SOURCE_DEM_DATE: 1979 00 00
AGENCY: WESTERN MAPPING CENTER (WMC)
PRODUCER: UNDEFINED
PRODUCTION_SYSTEM: GIS/MAGIC
COMPRESSION: UNDEFINED
STANDARD_VERSION: 1996 12
METADATA_DATE: 2000 11 17
DATA_FILE_SIZE: 43036032
BYTE_COUNT: 5592
