FILENAME: O4710744.NES.1112198.tif
QUADRANGLE_NAME: HAY COULEE
QUADRANT: NE
WEST_LONGITUDE: -107 33 45.00000
EAST_LONGITUDE: -107 30 0.00000
NORTH_LATITUDE: 47 22 30.00000
SOUTH_LATITUDE: 47 18 45.00000
PRODUCTION_DATE: 2000 11 16
RASTER_ORDER: LEFT_RIGHT/TOP_BOTTOM
BAND_ORGANIZATION: SINGLE FILE
BAND_CONTENT: BLACK&WHITE
BAND_CONTENT: UNDEFINED
BAND_CONTENT: UNDEFINED
BITS_PER_PIXEL: 8
SAMPLES_AND_LINES: 5599 7703
HORIZONTAL_DATUM: NAD83
HORIZONTAL_COORDINATE_SYSTEM: UTM
COORDINATE_ZONE: 13
HORIZONTAL_UNITS: METERS
HORIZONTAL_RESOLUTION: 1.00000
SECONDARY_HORIZONTAL_DATUM: NAD27
XY_ORIGIN: 305977.00000 5250324.00000
SECONDARY_XY_ORIGIN: 306020.42100 5250103.72700
NATION: US
NATION: "SCIENCE
STATE: MT
NW_QUAD_CORNER_XY: 306556.99300 5250021.80800
NE_QUAD_CORNER_XY: 311274.86600 5249868.34500
SE_QUAD_CORNERY_XY: 311051.85500 5242923.06200
SW_QUAD_CORNER_XY: 306328.40000 5243076.55300
SECONDARY_NW_QUAD_XY: 306550.98300 5249803.21700
SECONDARY_NE_QUAD_XY: 311269.00300 5249649.75000
SECONDARY_SE_QUAD_XY: 311045.99200 5242704.49100
SECONDARY_SW_QUAD_XY: 306322.39100 5242857.98500
RMSE_XY: 2.80000
IMAGE_SOURCE: BLACK AND WHITE FILM
SOURCE_IMAGE_ID: NAPP 9127 250
SOURCE_IMAGE_DATE: 1996 07 15
SOURCE_IMAGE_ID: NAPP 9127 249
SOURCE_IMAGE_DATE: 1996 07 15
SOURCE_DEM_DATE: 1993 00 00
AGENCY: WESTERN MAPPING CENTER (WMC)
PRODUCER: UNDEFINED
PRODUCTION_SYSTEM: GIS/MAGIC
COMPRESSION: UNDEFINED
STANDARD_VERSION: 1996 12
METADATA_DATE: 2000 11 16
DATA_FILE_SIZE: 43134696
BYTE_COUNT: 5599
