FILENAME: O4710744.NWS.1112199.tif
QUADRANGLE_NAME: HAY COULEE
QUADRANT: NW
WEST_LONGITUDE: -107 37 30.00000
EAST_LONGITUDE: -107 33 45.00000
NORTH_LATITUDE: 47 22 30.00000
SOUTH_LATITUDE: 47 18 45.00000
PRODUCTION_DATE: 2000 11 16
RASTER_ORDER: LEFT_RIGHT/TOP_BOTTOM
BAND_ORGANIZATION: SINGLE FILE
BAND_CONTENT: BLACK&WHITE
BAND_CONTENT: UNDEFINED
BAND_CONTENT: UNDEFINED
BITS_PER_PIXEL: 8
SAMPLES_AND_LINES: 5604 7707
HORIZONTAL_DATUM: NAD83
HORIZONTAL_COORDINATE_SYSTEM: UTM
COORDINATE_ZONE: 13
HORIZONTAL_UNITS: METERS
HORIZONTAL_RESOLUTION: 1.00000
SECONDARY_HORIZONTAL_DATUM: NAD27
XY_ORIGIN: 301254.00000 5250481.00000
SECONDARY_XY_ORIGIN: 301297.46300 5250260.74400
NATION: US
NATION: "SCIENCE
STATE: MT
NW_QUAD_CORNER_XY: 301839.13800 5250179.06500
NE_QUAD_CORNER_XY: 306556.99300 5250021.80800
SE_QUAD_CORNERY_XY: 306328.40000 5243076.55300
SW_QUAD_CORNER_XY: 301604.96300 5243233.83700
SECONDARY_NW_QUAD_XY: 301832.98200 5249960.47900
SECONDARY_NE_QUAD_XY: 306550.98300 5249803.21700
SECONDARY_SE_QUAD_XY: 306322.39100 5242857.98500
SECONDARY_SW_QUAD_XY: 301598.80700 5243015.27500
RMSE_XY: 3.10000
IMAGE_SOURCE: BLACK AND WHITE FILM
SOURCE_IMAGE_ID: NAPP 9131 040
SOURCE_IMAGE_DATE: 1996 07 29
SOURCE_IMAGE_ID: NAPP 9131 041
SOURCE_IMAGE_DATE: 1996 07 29
SOURCE_IMAGE_ID: NAPP 9127 251
SOURCE_IMAGE_DATE: 1996 07 15
SOURCE_DEM_DATE: 1993 00 00
AGENCY: WESTERN MAPPING CENTER (WMC)
PRODUCER: UNDEFINED
PRODUCTION_SYSTEM: GIS/MAGIC
COMPRESSION: UNDEFINED
STANDARD_VERSION: 1996 12
METADATA_DATE: 2000 11 16
DATA_FILE_SIZE: 43195632
BYTE_COUNT: 5604
