FILENAME: O4710743.SES.1112172.tif
QUADRANGLE_NAME: BENZIEN
QUADRANT: SE
WEST_LONGITUDE: -107 41 15.00000
EAST_LONGITUDE: -107 37 30.00000
NORTH_LATITUDE: 47 18 45.00000
SOUTH_LATITUDE: 47 15 0.00000
PRODUCTION_DATE: 2000 11 16
RASTER_ORDER: LEFT_RIGHT/TOP_BOTTOM
BAND_ORGANIZATION: SINGLE FILE
BAND_CONTENT: BLACK&WHITE
BAND_CONTENT: UNDEFINED
BAND_CONTENT: UNDEFINED
BITS_PER_PIXEL: 8
SAMPLES_AND_LINES: 5615 7711
HORIZONTAL_DATUM: NAD83
HORIZONTAL_COORDINATE_SYSTEM: UTM
COORDINATE_ZONE: 13
HORIZONTAL_UNITS: METERS
HORIZONTAL_RESOLUTION: 1.00000
SECONDARY_HORIZONTAL_DATUM: NAD27
XY_ORIGIN: 296291.00000 5243697.00000
SECONDARY_XY_ORIGIN: 296334.53400 5243476.86200
NATION: US
NATION: "SCIENCE
STATE: MT
NW_QUAD_CORNER_XY: 296881.54500 5243394.91600
NE_QUAD_CORNER_XY: 301604.96300 5243233.83700
SE_QUAD_CORNERY_XY: 301371.02500 5236288.67000
SW_QUAD_CORNER_XY: 296642.03000 5236449.77700
SECONDARY_NW_QUAD_XY: 296875.24300 5243176.35900
SECONDARY_NE_QUAD_XY: 301598.80700 5243015.27500
SECONDARY_SE_QUAD_XY: 301364.87000 5236070.13200
SECONDARY_SW_QUAD_XY: 296635.72900 5236231.24400
RMSE_XY: 2.00000
IMAGE_SOURCE: BLACK AND WHITE FILM
SOURCE_IMAGE_ID: NAPP 9131 118
SOURCE_IMAGE_DATE: 1996 07 29
SOURCE_IMAGE_ID: NAPP 9131 176
SOURCE_IMAGE_DATE: 1996 07 29
SOURCE_DEM_DATE: 1993 00 00
AGENCY: WESTERN MAPPING CENTER (WMC)
PRODUCER: UNDEFINED
PRODUCTION_SYSTEM: GIS/MAGIC
COMPRESSION: UNDEFINED
STANDARD_VERSION: 1996 12
METADATA_DATE: 2000 11 16
DATA_FILE_SIZE: 43302880
BYTE_COUNT: 5615
