FILENAME: O4710742.NWS.1112143.tif
QUADRANGLE_NAME: SEVENTYNINE COULEE
QUADRANT: NW
WEST_LONGITUDE: -107 52 30.00000
EAST_LONGITUDE: -107 48 45.00000
NORTH_LATITUDE: 47 22 30.00000
SOUTH_LATITUDE: 47 18 45.00000
PRODUCTION_DATE: 2000 11 16
RASTER_ORDER: LEFT_RIGHT/TOP_BOTTOM
BAND_ORGANIZATION: SINGLE FILE
BAND_CONTENT: BLACK&WHITE
BAND_CONTENT: UNDEFINED
BAND_CONTENT: UNDEFINED
BITS_PER_PIXEL: 8
SAMPLES_AND_LINES: 5627 7722
HORIZONTAL_DATUM: NAD83
HORIZONTAL_COORDINATE_SYSTEM: UTM
COORDINATE_ZONE: 13
HORIZONTAL_UNITS: METERS
HORIZONTAL_RESOLUTION: 1.00000
SECONDARY_HORIZONTAL_DATUM: NAD27
XY_ORIGIN: 282360.00000 5251148.00000
SECONDARY_XY_ORIGIN: 282403.60000 5250927.94900
NATION: US
NATION: "SCIENCE
STATE: MT
NW_QUAD_CORNER_XY: 282967.91900 5250846.03500
NE_QUAD_CORNER_XY: 287685.69300 5250673.60000
SE_QUAD_CORNERY_XY: 287434.76800 5243728.46000
SW_QUAD_CORNER_XY: 282711.41000 5243900.92600
SECONDARY_NW_QUAD_XY: 282961.17600 5250627.47000
SECONDARY_NE_QUAD_XY: 287679.09700 5250455.03000
SECONDARY_SE_QUAD_XY: 287428.17300 5243509.91400
SECONDARY_SW_QUAD_XY: 282704.66800 5243682.38500
RMSE_XY: 1.20000
IMAGE_SOURCE: BLACK AND WHITE FILM
SOURCE_IMAGE_ID: NAPP 9132 066
SOURCE_IMAGE_DATE: 1996 07 29
SOURCE_IMAGE_ID: NAPP 9132 116
SOURCE_IMAGE_DATE: 1996 07 29
SOURCE_IMAGE_ID: NAPP 9132 065
SOURCE_IMAGE_DATE: 1996 07 29
SOURCE_DEM_DATE: 1966 00 00
AGENCY: WESTERN MAPPING CENTER (WMC)
PRODUCER: UNDEFINED
PRODUCTION_SYSTEM: GIS/MAGIC
COMPRESSION: UNDEFINED
STANDARD_VERSION: 1996 12
METADATA_DATE: 2000 11 16
DATA_FILE_SIZE: 43457321
BYTE_COUNT: 5627
