FILENAME: O4710742.SES.1112144.tif
QUADRANGLE_NAME: SEVENTYNINE COULEE
QUADRANT: SE
WEST_LONGITUDE: -107 48 45.00000
EAST_LONGITUDE: -107 45 0.00000
NORTH_LATITUDE: 47 18 45.00000
SOUTH_LATITUDE: 47 15 0.00000
PRODUCTION_DATE: 2000 11 16
RASTER_ORDER: LEFT_RIGHT/TOP_BOTTOM
BAND_ORGANIZATION: SINGLE FILE
BAND_CONTENT: BLACK&WHITE
BAND_CONTENT: UNDEFINED
BAND_CONTENT: UNDEFINED
BITS_PER_PIXEL: 8
SAMPLES_AND_LINES: 5628 7718
HORIZONTAL_DATUM: NAD83
HORIZONTAL_COORDINATE_SYSTEM: UTM
COORDINATE_ZONE: 13
HORIZONTAL_UNITS: METERS
HORIZONTAL_RESOLUTION: 1.00000
SECONDARY_HORIZONTAL_DATUM: NAD27
XY_ORIGIN: 286832.00000 5244030.00000
SECONDARY_XY_ORIGIN: 286875.60500 5243810.00400
NATION: US
NATION: "SCIENCE
STATE: MT
NW_QUAD_CORNER_XY: 287434.76800 5243728.46000
NE_QUAD_CORNER_XY: 292158.14700 5243559.79100
SE_QUAD_CORNERY_XY: 291913.05400 5236614.68000
SW_QUAD_CORNER_XY: 287184.09700 5236783.37900
SECONDARY_NW_QUAD_XY: 287428.17300 5243509.91400
SECONDARY_NE_QUAD_XY: 292151.69800 5243341.23900
SECONDARY_SE_QUAD_XY: 291906.60600 5236396.15200
SECONDARY_SW_QUAD_XY: 287177.50300 5236564.85600
RMSE_XY: 2.70000
IMAGE_SOURCE: BLACK AND WHITE FILM
SOURCE_IMAGE_ID: NAPP 9131 244
SOURCE_IMAGE_DATE: 1996 07 29
SOURCE_IMAGE_ID: NAPP 9131 245
SOURCE_IMAGE_DATE: 1996 07 29
SOURCE_IMAGE_ID: NAPP 9131 243
SOURCE_IMAGE_DATE: 1996 07 29
SOURCE_DEM_DATE: 1966 00 00
AGENCY: WESTERN MAPPING CENTER (WMC)
PRODUCER: UNDEFINED
PRODUCTION_SYSTEM: GIS/MAGIC
COMPRESSION: UNDEFINED
STANDARD_VERSION: 1996 12
METADATA_DATE: 2000 11 16
DATA_FILE_SIZE: 43442532
BYTE_COUNT: 5628
