FILENAME: O4710742.SWS.1112145.tif
QUADRANGLE_NAME: SEVENTYNINE COULEE
QUADRANT: SW
WEST_LONGITUDE: -107 52 30.00000
EAST_LONGITUDE: -107 48 45.00000
NORTH_LATITUDE: 47 18 45.00000
SOUTH_LATITUDE: 47 15 0.00000
PRODUCTION_DATE: 2000 11 16
RASTER_ORDER: LEFT_RIGHT/TOP_BOTTOM
BAND_ORGANIZATION: SINGLE FILE
BAND_CONTENT: BLACK&WHITE
BAND_CONTENT: UNDEFINED
BAND_CONTENT: UNDEFINED
BITS_PER_PIXEL: 8
SAMPLES_AND_LINES: 5633 7722
HORIZONTAL_DATUM: NAD83
HORIZONTAL_COORDINATE_SYSTEM: UTM
COORDINATE_ZONE: 13
HORIZONTAL_UNITS: METERS
HORIZONTAL_RESOLUTION: 1.00000
SECONDARY_HORIZONTAL_DATUM: NAD27
XY_ORIGIN: 282103.00000 5244203.00000
SECONDARY_XY_ORIGIN: 282146.63300 5243983.10700
NATION: US
NATION: "SCIENCE
STATE: MT
NW_QUAD_CORNER_XY: 282711.41000 5243900.92600
NE_QUAD_CORNER_XY: 287434.76800 5243728.46000
SE_QUAD_CORNERY_XY: 287184.09700 5236783.37900
SW_QUAD_CORNER_XY: 282455.16100 5236955.87400
SECONDARY_NW_QUAD_XY: 282704.66800 5243682.38500
SECONDARY_NE_QUAD_XY: 287428.17300 5243509.91400
SECONDARY_SE_QUAD_XY: 287177.50300 5236564.85600
SECONDARY_SW_QUAD_XY: 282448.42000 5236737.35700
RMSE_XY: 1.80000
IMAGE_SOURCE: BLACK AND WHITE FILM
SOURCE_IMAGE_ID: NAPP 9132 064
SOURCE_IMAGE_DATE: 1996 07 29
SOURCE_IMAGE_ID: NAPP 9132 063
SOURCE_IMAGE_DATE: 1996 07 29
SOURCE_DEM_DATE: 1966 00 00
AGENCY: WESTERN MAPPING CENTER (WMC)
PRODUCER: UNDEFINED
PRODUCTION_SYSTEM: GIS/MAGIC
COMPRESSION: UNDEFINED
STANDARD_VERSION: 1996 12
METADATA_DATE: 2000 11 16
DATA_FILE_SIZE: 43503659
BYTE_COUNT: 5633
