FILENAME: O4710741.NWS.1112139.tif
QUADRANGLE_NAME: NELSON COULEE
QUADRANT: NW
WEST_LONGITUDE: -108 0 0.00000
EAST_LONGITUDE: -107 56 15.00000
NORTH_LATITUDE: 47 22 30.00000
SOUTH_LATITUDE: 47 18 45.00000
PRODUCTION_DATE: 2000 11 16
RASTER_ORDER: LEFT_RIGHT/TOP_BOTTOM
BAND_ORGANIZATION: SINGLE FILE
BAND_CONTENT: BLACK&WHITE
BAND_CONTENT: UNDEFINED
BAND_CONTENT: UNDEFINED
BITS_PER_PIXEL: 8
SAMPLES_AND_LINES: 5639 7729
HORIZONTAL_DATUM: NAD83
HORIZONTAL_COORDINATE_SYSTEM: UTM
COORDINATE_ZONE: 13
HORIZONTAL_UNITS: METERS
HORIZONTAL_RESOLUTION: 1.00000
SECONDARY_HORIZONTAL_DATUM: NAD27
XY_ORIGIN: 272913.00000 5251504.00000
SECONDARY_XY_ORIGIN: 272956.65600 5251284.10600
NATION: US
NATION: "SCIENCE
STATE: MT
NW_QUAD_CORNER_XY: 273532.43600 5251202.29200
NE_QUAD_CORNER_XY: 278250.16700 5251022.26500
SE_QUAD_CORNERY_XY: 277988.07300 5244077.18800
SW_QUAD_CORNER_XY: 273264.75700 5244257.24600
SECONDARY_NW_QUAD_XY: 273525.40000 5250983.73800
SECONDARY_NE_QUAD_XY: 278243.27700 5250803.70600
SECONDARY_SE_QUAD_XY: 277981.18400 5243858.65200
SECONDARY_SW_QUAD_XY: 273257.72100 5244038.71600
RMSE_XY: 1.70000
IMAGE_SOURCE: BLACK AND WHITE FILM
SOURCE_IMAGE_ID: NAPP 9132 180
SOURCE_IMAGE_DATE: 1996 07 29
SOURCE_IMAGE_ID: NAPP 9132 179
SOURCE_IMAGE_DATE: 1996 07 29
SOURCE_IMAGE_ID: NAPP 9157 194
SOURCE_IMAGE_DATE: 1997 09 05
SOURCE_DEM_DATE: 1966 00 00
AGENCY: WESTERN MAPPING CENTER (WMC)
PRODUCER: UNDEFINED
PRODUCTION_SYSTEM: GIS/MAGIC
COMPRESSION: UNDEFINED
STANDARD_VERSION: 1996 12
METADATA_DATE: 2000 11 16
DATA_FILE_SIZE: 43589470
BYTE_COUNT: 5639
