FILENAME: O4710741.SES.1112140.tif
QUADRANGLE_NAME: NELSON COULEE
QUADRANT: SE
WEST_LONGITUDE: -107 56 15.00000
EAST_LONGITUDE: -107 52 30.00000
NORTH_LATITUDE: 47 18 45.00000
SOUTH_LATITUDE: 47 15 0.00000
PRODUCTION_DATE: 2000 11 16
RASTER_ORDER: LEFT_RIGHT/TOP_BOTTOM
BAND_ORGANIZATION: SINGLE FILE
BAND_CONTENT: BLACK&WHITE
BAND_CONTENT: UNDEFINED
BAND_CONTENT: UNDEFINED
BITS_PER_PIXEL: 8
SAMPLES_AND_LINES: 5639 7726
HORIZONTAL_DATUM: NAD83
HORIZONTAL_COORDINATE_SYSTEM: UTM
COORDINATE_ZONE: 13
HORIZONTAL_UNITS: METERS
HORIZONTAL_RESOLUTION: 1.00000
SECONDARY_HORIZONTAL_DATUM: NAD27
XY_ORIGIN: 277374.00000 5244379.00000
SECONDARY_XY_ORIGIN: 277417.66100 5244159.21100
NATION: US
NATION: "SCIENCE
STATE: MT
NW_QUAD_CORNER_XY: 277988.07300 5244077.18800
NE_QUAD_CORNER_XY: 282711.41000 5243900.92600
SE_QUAD_CORNERY_XY: 282455.16100 5236955.87400
SW_QUAD_CORNER_XY: 277726.24400 5237132.16600
SECONDARY_NW_QUAD_XY: 277981.18400 5243858.65200
SECONDARY_NE_QUAD_XY: 282704.66800 5243682.38500
SECONDARY_SE_QUAD_XY: 282448.42000 5236737.35700
SECONDARY_SW_QUAD_XY: 277719.35600 5236913.65500
RMSE_XY: 1.60000
IMAGE_SOURCE: BLACK AND WHITE FILM
SOURCE_IMAGE_ID: NAPP 9132 119
SOURCE_IMAGE_DATE: 1996 07 29
SOURCE_DEM_DATE: 1966 00 00
AGENCY: WESTERN MAPPING CENTER (WMC)
PRODUCER: UNDEFINED
PRODUCTION_SYSTEM: GIS/MAGIC
COMPRESSION: UNDEFINED
STANDARD_VERSION: 1996 12
METADATA_DATE: 2000 11 16
DATA_FILE_SIZE: 43572553
BYTE_COUNT: 5639
