FILENAME: O4710741.SWS.1112141.tif
QUADRANGLE_NAME: NELSON COULEE
QUADRANT: SW
WEST_LONGITUDE: -108 0 0.00000
EAST_LONGITUDE: -107 56 15.00000
NORTH_LATITUDE: 47 18 45.00000
SOUTH_LATITUDE: 47 15 0.00000
PRODUCTION_DATE: 2000 11 16
RASTER_ORDER: LEFT_RIGHT/TOP_BOTTOM
BAND_ORGANIZATION: SINGLE FILE
BAND_CONTENT: BLACK&WHITE
BAND_CONTENT: UNDEFINED
BAND_CONTENT: UNDEFINED
BITS_PER_PIXEL: 8
SAMPLES_AND_LINES: 5645 7729
HORIZONTAL_DATUM: NAD83
HORIZONTAL_COORDINATE_SYSTEM: UTM
COORDINATE_ZONE: 13
HORIZONTAL_UNITS: METERS
HORIZONTAL_RESOLUTION: 1.00000
SECONDARY_HORIZONTAL_DATUM: NAD27
XY_ORIGIN: 272645.00000 5244559.00000
SECONDARY_XY_ORIGIN: 272688.69000 5244339.31400
NATION: US
NATION: "SCIENCE
STATE: MT
NW_QUAD_CORNER_XY: 273264.75700 5244257.24600
NE_QUAD_CORNER_XY: 277988.07300 5244077.18800
SE_QUAD_CORNERY_XY: 277726.24400 5237132.16600
SW_QUAD_CORNER_XY: 272997.34800 5237312.25600
SECONDARY_NW_QUAD_XY: 273257.72100 5244038.71600
SECONDARY_NE_QUAD_XY: 277981.18400 5243858.65200
SECONDARY_SE_QUAD_XY: 277719.35600 5236913.65500
SECONDARY_SW_QUAD_XY: 272990.31400 5237093.75000
RMSE_XY: 1.90000
IMAGE_SOURCE: BLACK AND WHITE FILM
SOURCE_IMAGE_ID: NAPP 9132 178
SOURCE_IMAGE_DATE: 1996 07 29
SOURCE_IMAGE_ID: NAPP 9132 177
SOURCE_IMAGE_DATE: 1996 07 29
SOURCE_DEM_DATE: 1966 00 00
AGENCY: WESTERN MAPPING CENTER (WMC)
PRODUCER: UNDEFINED
PRODUCTION_SYSTEM: GIS/MAGIC
COMPRESSION: UNDEFINED
STANDARD_VERSION: 1996 12
METADATA_DATE: 2000 11 16
DATA_FILE_SIZE: 43635850
BYTE_COUNT: 5645
