FILENAME: O4710740.NWS.1115041.tif
QUADRANGLE_NAME: BISCUIT BUTTE
QUADRANT: NW
WEST_LONGITUDE: -107 7 30.00000
EAST_LONGITUDE: -107 3 45.00000
NORTH_LATITUDE: 47 30 0.00000
SOUTH_LATITUDE: 47 26 15.00000
PRODUCTION_DATE: 2000 11 16
RASTER_ORDER: LEFT_RIGHT/TOP_BOTTOM
BAND_ORGANIZATION: SINGLE FILE
BAND_CONTENT: BLACK&WHITE
BAND_CONTENT: UNDEFINED
BAND_CONTENT: UNDEFINED
BITS_PER_PIXEL: 8
SAMPLES_AND_LINES: 5547 7677
HORIZONTAL_DATUM: NAD83
HORIZONTAL_COORDINATE_SYSTEM: UTM
COORDINATE_ZONE: 13
HORIZONTAL_UNITS: METERS
HORIZONTAL_RESOLUTION: 1.00000
SECONDARY_HORIZONTAL_DATUM: NAD27
XY_ORIGIN: 339423.00000 5263220.00000
SECONDARY_XY_ORIGIN: 339465.93300 5262999.63200
NATION: US
NATION: "SCIENCE
STATE: MT
NW_QUAD_CORNER_XY: 339962.11600 5262918.27900
NE_QUAD_CORNER_XY: 344668.93400 5262791.41000
SE_QUAD_CORNERY_XY: 344484.61000 5255845.82300
SW_QUAD_CORNER_XY: 339772.20200 5255972.71600
SECONDARY_NW_QUAD_XY: 339957.13100 5262699.61200
SECONDARY_NE_QUAD_XY: 344664.09600 5262572.74000
SECONDARY_SE_QUAD_XY: 344479.77300 5255627.17500
SECONDARY_SW_QUAD_XY: 339767.21700 5255754.07100
RMSE_XY: 0.90000
IMAGE_SOURCE: BLACK AND WHITE FILM
SOURCE_IMAGE_ID: NAPP 9101 125
SOURCE_IMAGE_DATE: 1996 07 15
SOURCE_DEM_DATE: 1979 00 00
AGENCY: WESTERN MAPPING CENTER (WMC)
PRODUCER: UNDEFINED
PRODUCTION_SYSTEM: GIS/MAGIC
COMPRESSION: UNDEFINED
STANDARD_VERSION: 1996 12
METADATA_DATE: 2000 11 17
DATA_FILE_SIZE: 42589866
BYTE_COUNT: 5547
