FILENAME: O4710738.NES.1114970.tif
QUADRANGLE_NAME: BRUSETT
QUADRANT: NE
WEST_LONGITUDE: -107 18 45.00000
EAST_LONGITUDE: -107 15 0.00000
NORTH_LATITUDE: 47 30 0.00000
SOUTH_LATITUDE: 47 26 15.00000
PRODUCTION_DATE: 2000 11 9
RASTER_ORDER: LEFT_RIGHT/TOP_BOTTOM
BAND_ORGANIZATION: SINGLE FILE
BAND_CONTENT: BLACK&WHITE
BAND_CONTENT: UNDEFINED
BAND_CONTENT: UNDEFINED
BITS_PER_PIXEL: 8
SAMPLES_AND_LINES: 5565 7689
HORIZONTAL_DATUM: NAD83
HORIZONTAL_COORDINATE_SYSTEM: UTM
COORDINATE_ZONE: 13
HORIZONTAL_UNITS: METERS
HORIZONTAL_RESOLUTION: 1.00000
SECONDARY_HORIZONTAL_DATUM: NAD27
XY_ORIGIN: 325285.00000 5263624.00000
SECONDARY_XY_ORIGIN: 325328.19100 5263403.58000
NATION: US
NATION: "SCIENCE
STATE: MT
NW_QUAD_CORNER_XY: 325841.76000 5263321.62800
NE_QUAD_CORNER_XY: 330548.52800 5263183.38700
SE_QUAD_CORNERY_XY: 330347.43300 5256237.87400
SW_QUAD_CORNER_XY: 325635.07400 5256376.14000
SECONDARY_NW_QUAD_XY: 325836.33600 5263102.97400
SECONDARY_NE_QUAD_XY: 330543.25000 5262964.72900
SECONDARY_SE_QUAD_XY: 330342.15500 5256019.23700
SECONDARY_SW_QUAD_XY: 325629.65000 5256157.50800
RMSE_XY: 0.80000
IMAGE_SOURCE: BLACK AND WHITE FILM
SOURCE_IMAGE_ID: NAPP 9127 050
SOURCE_IMAGE_DATE: 1996 07 15
SOURCE_DEM_DATE: 1979 00 00
AGENCY: WESTERN MAPPING CENTER (WMC)
PRODUCER: UNDEFINED
PRODUCTION_SYSTEM: GIS/MAGIC
COMPRESSION: UNDEFINED
STANDARD_VERSION: 1996 12
METADATA_DATE: 2000 11 17
DATA_FILE_SIZE: 42794850
BYTE_COUNT: 5565
