FILENAME: O4710738.SES.1114972.tif
QUADRANGLE_NAME: BRUSETT
QUADRANT: SE
WEST_LONGITUDE: -107 18 45.00000
EAST_LONGITUDE: -107 15 0.00000
NORTH_LATITUDE: 47 26 15.00000
SOUTH_LATITUDE: 47 22 30.00000
PRODUCTION_DATE: 2000 11 9
RASTER_ORDER: LEFT_RIGHT/TOP_BOTTOM
BAND_ORGANIZATION: SINGLE FILE
BAND_CONTENT: BLACK&WHITE
BAND_CONTENT: UNDEFINED
BAND_CONTENT: UNDEFINED
BITS_PER_PIXEL: 8
SAMPLES_AND_LINES: 5571 7688
HORIZONTAL_DATUM: NAD83
HORIZONTAL_COORDINATE_SYSTEM: UTM
COORDINATE_ZONE: 13
HORIZONTAL_UNITS: METERS
HORIZONTAL_RESOLUTION: 1.00000
SECONDARY_HORIZONTAL_DATUM: NAD27
XY_ORIGIN: 325078.00000 5256678.00000
SECONDARY_XY_ORIGIN: 325121.19200 5256457.67100
NATION: US
NATION: "SCIENCE
STATE: MT
NW_QUAD_CORNER_XY: 325635.07400 5256376.14000
NE_QUAD_CORNER_XY: 330347.43300 5256237.87400
SE_QUAD_CORNERY_XY: 330146.54000 5249292.42400
SW_QUAD_CORNER_XY: 325428.59600 5249430.71600
SECONDARY_NW_QUAD_XY: 325629.65000 5256157.50800
SECONDARY_NE_QUAD_XY: 330342.15500 5256019.23700
SECONDARY_SE_QUAD_XY: 330141.26400 5249073.81100
SECONDARY_SW_QUAD_XY: 325423.17300 5249212.10700
RMSE_XY: 1.00000
IMAGE_SOURCE: BLACK AND WHITE FILM
SOURCE_IMAGE_ID: NAPP 9127 052
SOURCE_IMAGE_DATE: 1996 07 15
SOURCE_IMAGE_ID: NAPP 9101 239
SOURCE_IMAGE_DATE: 1996 07 15
SOURCE_DEM_DATE: 1979 00 00
AGENCY: WESTERN MAPPING CENTER (WMC)
PRODUCER: UNDEFINED
PRODUCTION_SYSTEM: GIS/MAGIC
COMPRESSION: UNDEFINED
STANDARD_VERSION: 1996 12
METADATA_DATE: 2000 11 17
DATA_FILE_SIZE: 42835419
BYTE_COUNT: 5571
