FILENAME: O4710737.NES.1114950.tif
QUADRANGLE_NAME: BLACKFOOT SCHOOL
QUADRANT: NE
WEST_LONGITUDE: -107 26 15.00000
EAST_LONGITUDE: -107 22 30.00000
NORTH_LATITUDE: 47 30 0.00000
SOUTH_LATITUDE: 47 26 15.00000
PRODUCTION_DATE: 2000 11 8
RASTER_ORDER: LEFT_RIGHT/TOP_BOTTOM
BAND_ORGANIZATION: SINGLE FILE
BAND_CONTENT: BLACK&WHITE
BAND_CONTENT: UNDEFINED
BAND_CONTENT: UNDEFINED
BITS_PER_PIXEL: 8
SAMPLES_AND_LINES: 5577 7696
HORIZONTAL_DATUM: NAD83
HORIZONTAL_COORDINATE_SYSTEM: UTM
COORDINATE_ZONE: 13
HORIZONTAL_UNITS: METERS
HORIZONTAL_RESOLUTION: 1.00000
SECONDARY_HORIZONTAL_DATUM: NAD27
XY_ORIGIN: 315860.00000 5263912.00000
SECONDARY_XY_ORIGIN: 315903.30400 5263691.55100
NATION: US
NATION: "SCIENCE
STATE: MT
NW_QUAD_CORNER_XY: 316428.27900 5263609.48200
NE_QUAD_CORNER_XY: 321135.01000 5263463.65900
SE_QUAD_CORNERY_XY: 320922.73200 5256518.19800
SW_QUAD_CORNER_XY: 316210.40900 5256664.04700
SECONDARY_NW_QUAD_XY: 316422.56100 5263390.83700
SECONDARY_NE_QUAD_XY: 321129.43900 5263245.00900
SECONDARY_SE_QUAD_XY: 320917.16100 5256299.57000
SECONDARY_SW_QUAD_XY: 316204.69100 5256445.42400
RMSE_XY: 0.80000
IMAGE_SOURCE: BLACK AND WHITE FILM
SOURCE_IMAGE_ID: NAPP 9127 156
SOURCE_IMAGE_DATE: 1996 07 15
SOURCE_IMAGE_ID: NAPP 9127 155
SOURCE_IMAGE_DATE: 1996 07 15
SOURCE_DEM_DATE: 1979 00 00
AGENCY: WESTERN MAPPING CENTER (WMC)
PRODUCER: UNDEFINED
PRODUCTION_SYSTEM: GIS/MAGIC
COMPRESSION: UNDEFINED
STANDARD_VERSION: 1996 12
METADATA_DATE: 2000 11 17
DATA_FILE_SIZE: 42926169
BYTE_COUNT: 5577
