FILENAME: O4710737.NWS.1114951.tif
QUADRANGLE_NAME: BLACKFOOT SCHOOL
QUADRANT: NW
WEST_LONGITUDE: -107 30 0.00000
EAST_LONGITUDE: -107 26 15.00000
NORTH_LATITUDE: 47 30 0.00000
SOUTH_LATITUDE: 47 26 15.00000
PRODUCTION_DATE: 2000 11 8
RASTER_ORDER: LEFT_RIGHT/TOP_BOTTOM
BAND_ORGANIZATION: SINGLE FILE
BAND_CONTENT: BLACK&WHITE
BAND_CONTENT: UNDEFINED
BAND_CONTENT: UNDEFINED
BITS_PER_PIXEL: 8
SAMPLES_AND_LINES: 5583 7699
HORIZONTAL_DATUM: NAD83
HORIZONTAL_COORDINATE_SYSTEM: UTM
COORDINATE_ZONE: 13
HORIZONTAL_UNITS: METERS
HORIZONTAL_RESOLUTION: 1.00000
SECONDARY_HORIZONTAL_DATUM: NAD27
XY_ORIGIN: 311147.00000 5264061.00000
SECONDARY_XY_ORIGIN: 311190.36000 5263840.53600
NATION: US
NATION: "SCIENCE
STATE: MT
NW_QUAD_CORNER_XY: 311721.56600 5263759.09600
NE_QUAD_CORNER_XY: 316428.27900 5263609.48200
SE_QUAD_CORNERY_XY: 316210.40900 5256664.04700
SW_QUAD_CORNER_XY: 311498.10300 5256813.69000
SECONDARY_NW_QUAD_XY: 311715.70200 5263540.45600
SECONDARY_NE_QUAD_XY: 316422.56100 5263390.83700
SECONDARY_SE_QUAD_XY: 316204.69100 5256445.42400
SECONDARY_SW_QUAD_XY: 311492.24000 5256595.07100
RMSE_XY: 1.20000
IMAGE_SOURCE: BLACK AND WHITE FILM
SOURCE_IMAGE_ID: NAPP 9127 171
SOURCE_IMAGE_DATE: 1996 07 15
SOURCE_IMAGE_ID: NAPP 9127 172
SOURCE_IMAGE_DATE: 1996 07 15
SOURCE_DEM_DATE: 1979 00 00
AGENCY: WESTERN MAPPING CENTER (WMC)
PRODUCER: UNDEFINED
PRODUCTION_SYSTEM: GIS/MAGIC
COMPRESSION: UNDEFINED
STANDARD_VERSION: 1996 12
METADATA_DATE: 2000 11 17
DATA_FILE_SIZE: 42989100
BYTE_COUNT: 5583
