FILENAME: O4710737.SWS.1114953.tif
QUADRANGLE_NAME: BLACKFOOT SCHOOL
QUADRANT: SW
WEST_LONGITUDE: -107 30 0.00000
EAST_LONGITUDE: -107 26 15.00000
NORTH_LATITUDE: 47 26 15.00000
SOUTH_LATITUDE: 47 22 30.00000
PRODUCTION_DATE: 2000 11 7
RASTER_ORDER: LEFT_RIGHT/TOP_BOTTOM
BAND_ORGANIZATION: SINGLE FILE
BAND_CONTENT: BLACK&WHITE
BAND_CONTENT: UNDEFINED
BAND_CONTENT: UNDEFINED
BITS_PER_PIXEL: 8
SAMPLES_AND_LINES: 5588 7700
HORIZONTAL_DATUM: NAD83
HORIZONTAL_COORDINATE_SYSTEM: UTM
COORDINATE_ZONE: 13
HORIZONTAL_UNITS: METERS
HORIZONTAL_RESOLUTION: 1.00000
SECONDARY_HORIZONTAL_DATUM: NAD27
XY_ORIGIN: 310924.00000 5257116.00000
SECONDARY_XY_ORIGIN: 310967.37100 5256895.61900
NATION: US
NATION: "SCIENCE
STATE: MT
NW_QUAD_CORNER_XY: 311498.10300 5256813.69000
NE_QUAD_CORNER_XY: 316210.40900 5256664.04700
SE_QUAD_CORNERY_XY: 315992.75800 5249718.67600
SW_QUAD_CORNER_XY: 311274.86600 5249868.34500
SECONDARY_NW_QUAD_XY: 311492.24000 5256595.07100
SECONDARY_NE_QUAD_XY: 316204.69100 5256445.42400
SECONDARY_SE_QUAD_XY: 315987.04200 5249500.07600
SECONDARY_SW_QUAD_XY: 311269.00300 5249649.75000
RMSE_XY: 0.70000
IMAGE_SOURCE: BLACK AND WHITE FILM
SOURCE_IMAGE_ID: NAPP 9127 169
SOURCE_IMAGE_DATE: 1996 07 15
SOURCE_DEM_DATE: 1979 00 00
AGENCY: WESTERN MAPPING CENTER (WMC)
PRODUCER: UNDEFINED
PRODUCTION_SYSTEM: GIS/MAGIC
COMPRESSION: UNDEFINED
STANDARD_VERSION: 1996 12
METADATA_DATE: 2000 11 17
DATA_FILE_SIZE: 43033188
BYTE_COUNT: 5588
