FILENAME: O4710736.NES.1112194.tif
QUADRANGLE_NAME: SPRING CREEK SCHOOL
QUADRANT: NE
WEST_LONGITUDE: -107 33 45.00000
EAST_LONGITUDE: -107 30 0.00000
NORTH_LATITUDE: 47 30 0.00000
SOUTH_LATITUDE: 47 26 15.00000
PRODUCTION_DATE: 2000 11 16
RASTER_ORDER: LEFT_RIGHT/TOP_BOTTOM
BAND_ORGANIZATION: SINGLE FILE
BAND_CONTENT: BLACK&WHITE
BAND_CONTENT: UNDEFINED
BAND_CONTENT: UNDEFINED
BITS_PER_PIXEL: 8
SAMPLES_AND_LINES: 5588 7704
HORIZONTAL_DATUM: NAD83
HORIZONTAL_COORDINATE_SYSTEM: UTM
COORDINATE_ZONE: 13
HORIZONTAL_UNITS: METERS
HORIZONTAL_RESOLUTION: 1.00000
SECONDARY_HORIZONTAL_DATUM: NAD27
XY_ORIGIN: 306435.00000 5264215.00000
SECONDARY_XY_ORIGIN: 306478.38800 5263994.54800
NATION: US
NATION: "SCIENCE
STATE: MT
NW_QUAD_CORNER_XY: 307014.87300 5263912.50200
NE_QUAD_CORNER_XY: 311721.56600 5263759.09600
SE_QUAD_CORNERY_XY: 311498.10300 5256813.69000
SW_QUAD_CORNER_XY: 306785.81700 5256967.12500
SECONDARY_NW_QUAD_XY: 307008.86200 5263693.86700
SECONDARY_NE_QUAD_XY: 311715.70200 5263540.45600
SECONDARY_SE_QUAD_XY: 311492.24000 5256595.07100
SECONDARY_SW_QUAD_XY: 306779.80700 5256748.51100
RMSE_XY: 1.30000
IMAGE_SOURCE: BLACK AND WHITE FILM
SOURCE_IMAGE_ID: NAPP 9127 246
SOURCE_IMAGE_DATE: 1996 07 15
SOURCE_IMAGE_ID: NAPP 9127 247
SOURCE_IMAGE_DATE: 1996 07 15
SOURCE_DEM_DATE: 1964 00 00
AGENCY: WESTERN MAPPING CENTER (WMC)
PRODUCER: UNDEFINED
PRODUCTION_SYSTEM: GIS/MAGIC
COMPRESSION: UNDEFINED
STANDARD_VERSION: 1996 12
METADATA_DATE: 2000 11 16
DATA_FILE_SIZE: 43055540
BYTE_COUNT: 5588
