FILENAME: O4710736.NWS.1112195.tif
QUADRANGLE_NAME: SPRING CREEK SCHOOL
QUADRANT: NW
WEST_LONGITUDE: -107 37 30.00000
EAST_LONGITUDE: -107 33 45.00000
NORTH_LATITUDE: 47 30 0.00000
SOUTH_LATITUDE: 47 26 15.00000
PRODUCTION_DATE: 2000 11 16
RASTER_ORDER: LEFT_RIGHT/TOP_BOTTOM
BAND_ORGANIZATION: SINGLE FILE
BAND_CONTENT: BLACK&WHITE
BAND_CONTENT: UNDEFINED
BAND_CONTENT: UNDEFINED
BITS_PER_PIXEL: 8
SAMPLES_AND_LINES: 5594 7707
HORIZONTAL_DATUM: NAD83
HORIZONTAL_COORDINATE_SYSTEM: UTM
COORDINATE_ZONE: 13
HORIZONTAL_UNITS: METERS
HORIZONTAL_RESOLUTION: 1.00000
SECONDARY_HORIZONTAL_DATUM: NAD27
XY_ORIGIN: 301722.00000 5264372.00000
SECONDARY_XY_ORIGIN: 301765.41800 5264151.55400
NATION: US
NATION: "SCIENCE
STATE: MT
NW_QUAD_CORNER_XY: 302308.20000 5264069.70100
NE_QUAD_CORNER_XY: 307014.87300 5263912.50200
SE_QUAD_CORNERY_XY: 306785.81700 5256967.12500
SW_QUAD_CORNER_XY: 302073.55100 5257124.35300
SECONDARY_NW_QUAD_XY: 302302.04200 5263851.07000
SECONDARY_NE_QUAD_XY: 307008.86200 5263693.86700
SECONDARY_SE_QUAD_XY: 306779.80700 5256748.51100
SECONDARY_SW_QUAD_XY: 302067.39400 5256905.74400
RMSE_XY: 1.30000
IMAGE_SOURCE: BLACK AND WHITE FILM
SOURCE_IMAGE_ID: NAPP 9131 044
SOURCE_IMAGE_DATE: 1996 07 29
SOURCE_IMAGE_ID: NAPP 9131 113
SOURCE_IMAGE_DATE: 1996 07 29
SOURCE_IMAGE_ID: NAPP 9131 111
SOURCE_IMAGE_DATE: 1996 07 29
SOURCE_DEM_DATE: 1964 00 00
AGENCY: WESTERN MAPPING CENTER (WMC)
PRODUCER: UNDEFINED
PRODUCTION_SYSTEM: GIS/MAGIC
COMPRESSION: UNDEFINED
STANDARD_VERSION: 1996 12
METADATA_DATE: 2000 11 16
DATA_FILE_SIZE: 43118552
BYTE_COUNT: 5594
