FILENAME: O4710736.SES.1112196.tif
QUADRANGLE_NAME: SPRING CREEK SCHOOL
QUADRANT: SE
WEST_LONGITUDE: -107 33 45.00000
EAST_LONGITUDE: -107 30 0.00000
NORTH_LATITUDE: 47 26 15.00000
SOUTH_LATITUDE: 47 22 30.00000
PRODUCTION_DATE: 2000 11 16
RASTER_ORDER: LEFT_RIGHT/TOP_BOTTOM
BAND_ORGANIZATION: SINGLE FILE
BAND_CONTENT: BLACK&WHITE
BAND_CONTENT: UNDEFINED
BAND_CONTENT: UNDEFINED
BITS_PER_PIXEL: 8
SAMPLES_AND_LINES: 5594 7703
HORIZONTAL_DATUM: NAD83
HORIZONTAL_COORDINATE_SYSTEM: UTM
COORDINATE_ZONE: 13
HORIZONTAL_UNITS: METERS
HORIZONTAL_RESOLUTION: 1.00000
SECONDARY_HORIZONTAL_DATUM: NAD27
XY_ORIGIN: 306206.00000 5257269.00000
SECONDARY_XY_ORIGIN: 306249.40500 5257048.63700
NATION: US
NATION: "SCIENCE
STATE: MT
NW_QUAD_CORNER_XY: 306785.81700 5256967.12500
NE_QUAD_CORNER_XY: 311498.10300 5256813.69000
SE_QUAD_CORNERY_XY: 311274.86600 5249868.34500
SW_QUAD_CORNER_XY: 306556.99300 5250021.80800
SECONDARY_NW_QUAD_XY: 306779.80700 5256748.51100
SECONDARY_NE_QUAD_XY: 311492.24000 5256595.07100
SECONDARY_SE_QUAD_XY: 311269.00300 5249649.75000
SECONDARY_SW_QUAD_XY: 306550.98300 5249803.21700
RMSE_XY: 1.10000
IMAGE_SOURCE: BLACK AND WHITE FILM
SOURCE_IMAGE_ID: NAPP 9127 248
SOURCE_IMAGE_DATE: 1996 07 15
SOURCE_DEM_DATE: 1964 00 00
AGENCY: WESTERN MAPPING CENTER (WMC)
PRODUCER: UNDEFINED
PRODUCTION_SYSTEM: GIS/MAGIC
COMPRESSION: UNDEFINED
STANDARD_VERSION: 1996 12
METADATA_DATE: 2000 11 16
DATA_FILE_SIZE: 43096176
BYTE_COUNT: 5594
