FILENAME: O4710735.NES.1112166.tif
QUADRANGLE_NAME: CAP ROCK BUTTE
QUADRANT: NE
WEST_LONGITUDE: -107 41 15.00000
EAST_LONGITUDE: -107 37 30.00000
NORTH_LATITUDE: 47 30 0.00000
SOUTH_LATITUDE: 47 26 15.00000
PRODUCTION_DATE: 2000 11 16
RASTER_ORDER: LEFT_RIGHT/TOP_BOTTOM
BAND_ORGANIZATION: SINGLE FILE
BAND_CONTENT: BLACK&WHITE
BAND_CONTENT: UNDEFINED
BAND_CONTENT: UNDEFINED
BITS_PER_PIXEL: 8
SAMPLES_AND_LINES: 5600 7711
HORIZONTAL_DATUM: NAD83
HORIZONTAL_COORDINATE_SYSTEM: UTM
COORDINATE_ZONE: 13
HORIZONTAL_UNITS: METERS
HORIZONTAL_RESOLUTION: 1.00000
SECONDARY_HORIZONTAL_DATUM: NAD27
XY_ORIGIN: 297010.00000 5264533.00000
SECONDARY_XY_ORIGIN: 297053.44900 5264312.56100
NATION: US
NATION: "SCIENCE
STATE: MT
NW_QUAD_CORNER_XY: 297601.54700 5264230.69200
NE_QUAD_CORNER_XY: 302308.20000 5264069.70100
SE_QUAD_CORNERY_XY: 302073.55100 5257124.35300
SW_QUAD_CORNER_XY: 297361.30400 5257285.37400
SECONDARY_NW_QUAD_XY: 297595.24300 5264012.06600
SECONDARY_NE_QUAD_XY: 302302.04200 5263851.07000
SECONDARY_SE_QUAD_XY: 302067.39400 5256905.74400
SECONDARY_SW_QUAD_XY: 297355.00000 5257066.77000
RMSE_XY: 2.10000
IMAGE_SOURCE: BLACK AND WHITE FILM
SOURCE_IMAGE_ID: NAPP 9131 112
SOURCE_IMAGE_DATE: 1996 07 29
SOURCE_IMAGE_ID: NAPP 9131 184
SOURCE_IMAGE_DATE: 1996 07 29
SOURCE_IMAGE_ID: NAPP 9131 113
SOURCE_IMAGE_DATE: 1996 07 29
SOURCE_DEM_DATE: 1964 00 00
AGENCY: WESTERN MAPPING CENTER (WMC)
PRODUCER: UNDEFINED
PRODUCTION_SYSTEM: GIS/MAGIC
COMPRESSION: UNDEFINED
STANDARD_VERSION: 1996 12
METADATA_DATE: 2000 11 16
DATA_FILE_SIZE: 43187200
BYTE_COUNT: 5600
