FILENAME: O4710735.SWS.1112169.tif
QUADRANGLE_NAME: CAP ROCK BUTTE
QUADRANT: SW
WEST_LONGITUDE: -107 45 0.00000
EAST_LONGITUDE: -107 41 15.00000
NORTH_LATITUDE: 47 26 15.00000
SOUTH_LATITUDE: 47 22 30.00000
PRODUCTION_DATE: 2000 11 16
RASTER_ORDER: LEFT_RIGHT/TOP_BOTTOM
BAND_ORGANIZATION: SINGLE FILE
BAND_CONTENT: BLACK&WHITE
BAND_CONTENT: UNDEFINED
BAND_CONTENT: UNDEFINED
BITS_PER_PIXEL: 8
SAMPLES_AND_LINES: 5611 7714
HORIZONTAL_DATUM: NAD83
HORIZONTAL_COORDINATE_SYSTEM: UTM
COORDINATE_ZONE: 13
HORIZONTAL_UNITS: METERS
HORIZONTAL_RESOLUTION: 1.00000
SECONDARY_HORIZONTAL_DATUM: NAD27
XY_ORIGIN: 292052.00000 5257752.00000
SECONDARY_XY_ORIGIN: 292095.51300 5257531.67200
NATION: US
NATION: "SCIENCE
STATE: MT
NW_QUAD_CORNER_XY: 292649.07800 5257450.18900
NE_QUAD_CORNER_XY: 297361.30400 5257285.37400
SE_QUAD_CORNERY_XY: 297121.30300 5250340.11500
SW_QUAD_CORNER_XY: 292403.48800 5250504.96000
SECONDARY_NW_QUAD_XY: 292642.62700 5257231.59000
SECONDARY_NE_QUAD_XY: 297355.00000 5257066.77000
SECONDARY_SE_QUAD_XY: 297115.00000 5250121.53500
SECONDARY_SW_QUAD_XY: 292397.03800 5250286.38500
RMSE_XY: 1.40000
IMAGE_SOURCE: BLACK AND WHITE FILM
SOURCE_IMAGE_ID: NAPP 9131 181
SOURCE_IMAGE_DATE: 1996 07 29
SOURCE_IMAGE_ID: NAPP 9131 180
SOURCE_IMAGE_DATE: 1996 07 29
SOURCE_DEM_DATE: 1964 00 00
AGENCY: WESTERN MAPPING CENTER (WMC)
PRODUCER: UNDEFINED
PRODUCTION_SYSTEM: GIS/MAGIC
COMPRESSION: UNDEFINED
STANDARD_VERSION: 1996 12
METADATA_DATE: 2000 11 16
DATA_FILE_SIZE: 43288865
BYTE_COUNT: 5611
