FILENAME: O4710734.NES.1112158.tif
QUADRANGLE_NAME: GERMAINE COULEE EAST
QUADRANT: NE
WEST_LONGITUDE: -107 48 45.00000
EAST_LONGITUDE: -107 45 0.00000
NORTH_LATITUDE: 47 30 0.00000
SOUTH_LATITUDE: 47 26 15.00000
PRODUCTION_DATE: 2000 11 16
RASTER_ORDER: LEFT_RIGHT/TOP_BOTTOM
BAND_ORGANIZATION: SINGLE FILE
BAND_CONTENT: BLACK&WHITE
BAND_CONTENT: UNDEFINED
BAND_CONTENT: UNDEFINED
BITS_PER_PIXEL: 8
SAMPLES_AND_LINES: 5611 7718
HORIZONTAL_DATUM: NAD83
HORIZONTAL_COORDINATE_SYSTEM: UTM
COORDINATE_ZONE: 13
HORIZONTAL_UNITS: METERS
HORIZONTAL_RESOLUTION: 1.00000
SECONDARY_HORIZONTAL_DATUM: NAD27
XY_ORIGIN: 287585.00000 5264866.00000
SECONDARY_XY_ORIGIN: 287628.50400 5264645.60600
NATION: US
NATION: "SCIENCE
STATE: MT
NW_QUAD_CORNER_XY: 288188.30500 5264564.05300
NE_QUAD_CORNER_XY: 292894.91600 5264395.47600
SE_QUAD_CORNERY_XY: 292649.07800 5257450.18900
SW_QUAD_CORNER_XY: 287936.87200 5257618.79800
SECONDARY_NW_QUAD_XY: 288181.70700 5264345.43800
SECONDARY_NE_QUAD_XY: 292888.46500 5264176.85600
SECONDARY_SE_QUAD_XY: 292642.62700 5257231.59000
SECONDARY_SW_QUAD_XY: 287930.27500 5257400.20500
RMSE_XY: 2.90000
IMAGE_SOURCE: BLACK AND WHITE FILM
SOURCE_IMAGE_ID: NAPP 9131 238
SOURCE_IMAGE_DATE: 1996 07 29
SOURCE_IMAGE_ID: NAPP 9131 239
SOURCE_IMAGE_DATE: 1996 07 29
SOURCE_DEM_DATE: 1964 00 00
AGENCY: WESTERN MAPPING CENTER (WMC)
PRODUCER: UNDEFINED
PRODUCTION_SYSTEM: GIS/MAGIC
COMPRESSION: UNDEFINED
STANDARD_VERSION: 1996 12
METADATA_DATE: 2000 11 16
DATA_FILE_SIZE: 43311309
BYTE_COUNT: 5611
