FILENAME: O4710734.NWS.1112159.tif
QUADRANGLE_NAME: GERMAINE COULEE EAST
QUADRANT: NW
WEST_LONGITUDE: -107 52 30.00000
EAST_LONGITUDE: -107 48 45.00000
NORTH_LATITUDE: 47 30 0.00000
SOUTH_LATITUDE: 47 26 15.00000
PRODUCTION_DATE: 2000 11 16
RASTER_ORDER: LEFT_RIGHT/TOP_BOTTOM
BAND_ORGANIZATION: SINGLE FILE
BAND_CONTENT: BLACK&WHITE
BAND_CONTENT: UNDEFINED
BAND_CONTENT: UNDEFINED
BITS_PER_PIXEL: 8
SAMPLES_AND_LINES: 5617 7723
HORIZONTAL_DATUM: NAD83
HORIZONTAL_COORDINATE_SYSTEM: UTM
COORDINATE_ZONE: 13
HORIZONTAL_UNITS: METERS
HORIZONTAL_RESOLUTION: 1.00000
SECONDARY_HORIZONTAL_DATUM: NAD27
XY_ORIGIN: 282873.00000 5265039.00000
SECONDARY_XY_ORIGIN: 282916.53200 5264818.63500
NATION: US
NATION: "SCIENCE
STATE: MT
NW_QUAD_CORNER_XY: 283481.71700 5264736.42400
NE_QUAD_CORNER_XY: 288188.30500 5264564.05300
SE_QUAD_CORNERY_XY: 287936.87200 5257618.79800
SW_QUAD_CORNER_XY: 283224.68800 5257791.20100
SECONDARY_NW_QUAD_XY: 283474.97200 5264517.81500
SECONDARY_NE_QUAD_XY: 288181.70700 5264345.43800
SECONDARY_SE_QUAD_XY: 287930.27500 5257400.20500
SECONDARY_SW_QUAD_XY: 283217.94500 5257572.61300
RMSE_XY: 2.30000
IMAGE_SOURCE: BLACK AND WHITE FILM
SOURCE_IMAGE_ID: NAPP 9132 070
SOURCE_IMAGE_DATE: 1996 07 29
SOURCE_IMAGE_ID: NAPP 9132 069
SOURCE_IMAGE_DATE: 1996 07 29
SOURCE_DEM_DATE: 1964 00 00
AGENCY: WESTERN MAPPING CENTER (WMC)
PRODUCER: UNDEFINED
PRODUCTION_SYSTEM: GIS/MAGIC
COMPRESSION: UNDEFINED
STANDARD_VERSION: 1996 12
METADATA_DATE: 2000 11 16
DATA_FILE_SIZE: 43385708
BYTE_COUNT: 5617
