FILENAME: O4710734.SES.1112160.tif
QUADRANGLE_NAME: GERMAINE COULEE EAST
QUADRANT: SE
WEST_LONGITUDE: -107 48 45.00000
EAST_LONGITUDE: -107 45 0.00000
NORTH_LATITUDE: 47 26 15.00000
SOUTH_LATITUDE: 47 22 30.00000
PRODUCTION_DATE: 2000 11 16
RASTER_ORDER: LEFT_RIGHT/TOP_BOTTOM
BAND_ORGANIZATION: SINGLE FILE
BAND_CONTENT: BLACK&WHITE
BAND_CONTENT: UNDEFINED
BAND_CONTENT: UNDEFINED
BITS_PER_PIXEL: 8
SAMPLES_AND_LINES: 5617 7719
HORIZONTAL_DATUM: NAD83
HORIZONTAL_COORDINATE_SYSTEM: UTM
COORDINATE_ZONE: 13
HORIZONTAL_UNITS: METERS
HORIZONTAL_RESOLUTION: 1.00000
SECONDARY_HORIZONTAL_DATUM: NAD27
XY_ORIGIN: 287334.00000 5257921.00000
SECONDARY_XY_ORIGIN: 287377.53800 5257700.73700
NATION: US
NATION: "SCIENCE
STATE: MT
NW_QUAD_CORNER_XY: 287936.87200 5257618.79800
NE_QUAD_CORNER_XY: 292649.07800 5257450.18900
SE_QUAD_CORNERY_XY: 292403.48800 5250504.96000
SW_QUAD_CORNER_XY: 287685.69300 5250673.60000
SECONDARY_NW_QUAD_XY: 287930.27500 5257400.20500
SECONDARY_NE_QUAD_XY: 292642.62700 5257231.59000
SECONDARY_SE_QUAD_XY: 292397.03800 5250286.38500
SECONDARY_SW_QUAD_XY: 287679.09700 5250455.03000
RMSE_XY: 2.10000
IMAGE_SOURCE: BLACK AND WHITE FILM
SOURCE_IMAGE_ID: NAPP 9131 240
SOURCE_IMAGE_DATE: 1996 07 29
SOURCE_IMAGE_ID: NAPP 9131 241
SOURCE_IMAGE_DATE: 1996 07 29
SOURCE_IMAGE_ID: NAPP 9131 239
SOURCE_IMAGE_DATE: 1996 07 29
SOURCE_DEM_DATE: 1964 00 00
AGENCY: WESTERN MAPPING CENTER (WMC)
PRODUCER: UNDEFINED
PRODUCTION_SYSTEM: GIS/MAGIC
COMPRESSION: UNDEFINED
STANDARD_VERSION: 1996 12
METADATA_DATE: 2000 11 16
DATA_FILE_SIZE: 43363240
BYTE_COUNT: 5617
