FILENAME: O4710733.NWS.1112135.tif
QUADRANGLE_NAME: GERMAINE COULEE WEST
QUADRANT: NW
WEST_LONGITUDE: -108 0 0.00000
EAST_LONGITUDE: -107 56 15.00000
NORTH_LATITUDE: 47 30 0.00000
SOUTH_LATITUDE: 47 26 15.00000
PRODUCTION_DATE: 2000 11 16
RASTER_ORDER: LEFT_RIGHT/TOP_BOTTOM
BAND_ORGANIZATION: SINGLE FILE
BAND_CONTENT: BLACK&WHITE
BAND_CONTENT: UNDEFINED
BAND_CONTENT: UNDEFINED
BITS_PER_PIXEL: 8
SAMPLES_AND_LINES: 5629 7730
HORIZONTAL_DATUM: NAD83
HORIZONTAL_COORDINATE_SYSTEM: UTM
COORDINATE_ZONE: 13
HORIZONTAL_UNITS: METERS
HORIZONTAL_RESOLUTION: 1.00000
SECONDARY_HORIZONTAL_DATUM: NAD27
XY_ORIGIN: 273448.00000 5265395.00000
SECONDARY_XY_ORIGIN: 273491.58900 5265174.69200
NATION: US
NATION: "SCIENCE
STATE: MT
NW_QUAD_CORNER_XY: 274068.60800 5265092.54900
NE_QUAD_CORNER_XY: 278775.15100 5264912.58900
SE_QUAD_CORNERY_XY: 278512.52600 5257967.39900
SW_QUAD_CORNER_XY: 273800.38700 5258147.39300
SECONDARY_NW_QUAD_XY: 274061.57000 5264873.95000
SECONDARY_NE_QUAD_XY: 278768.26000 5264693.98500
SECONDARY_SE_QUAD_XY: 278505.63600 5257748.81700
SECONDARY_SW_QUAD_XY: 273793.35000 5257928.81600
RMSE_XY: 2.00000
IMAGE_SOURCE: BLACK AND WHITE FILM
SOURCE_IMAGE_ID: NAPP 9157 197
SOURCE_IMAGE_DATE: 1997 09 05
SOURCE_DEM_DATE: 1964 00 00
AGENCY: WESTERN MAPPING CENTER (WMC)
PRODUCER: UNDEFINED
PRODUCTION_SYSTEM: GIS/MAGIC
COMPRESSION: UNDEFINED
STANDARD_VERSION: 1996 12
METADATA_DATE: 2000 11 16
DATA_FILE_SIZE: 43517799
BYTE_COUNT: 5629
