FILENAME: O4710733.SES.1112136.tif
QUADRANGLE_NAME: GERMAINE COULEE WEST
QUADRANT: SE
WEST_LONGITUDE: -107 56 15.00000
EAST_LONGITUDE: -107 52 30.00000
NORTH_LATITUDE: 47 26 15.00000
SOUTH_LATITUDE: 47 22 30.00000
PRODUCTION_DATE: 2000 11 16
RASTER_ORDER: LEFT_RIGHT/TOP_BOTTOM
BAND_ORGANIZATION: SINGLE FILE
BAND_CONTENT: BLACK&WHITE
BAND_CONTENT: UNDEFINED
BAND_CONTENT: UNDEFINED
BITS_PER_PIXEL: 8
SAMPLES_AND_LINES: 5628 7725
HORIZONTAL_DATUM: NAD83
HORIZONTAL_COORDINATE_SYSTEM: UTM
COORDINATE_ZONE: 13
HORIZONTAL_UNITS: METERS
HORIZONTAL_RESOLUTION: 1.00000
SECONDARY_HORIZONTAL_DATUM: NAD27
XY_ORIGIN: 277898.00000 5258269.00000
SECONDARY_XY_ORIGIN: 277941.59400 5258048.84500
NATION: US
NATION: "SCIENCE
STATE: MT
NW_QUAD_CORNER_XY: 278512.52600 5257967.39900
NE_QUAD_CORNER_XY: 283224.68800 5257791.20100
SE_QUAD_CORNERY_XY: 282967.91900 5250846.03500
SW_QUAD_CORNER_XY: 278250.16700 5251022.26500
SECONDARY_NW_QUAD_XY: 278505.63600 5257748.81700
SECONDARY_NE_QUAD_XY: 283217.94500 5257572.61300
SECONDARY_SE_QUAD_XY: 282961.17600 5250627.47000
SECONDARY_SW_QUAD_XY: 278243.27700 5250803.70600
RMSE_XY: 1.60000
IMAGE_SOURCE: BLACK AND WHITE FILM
SOURCE_IMAGE_ID: NAPP 9132 115
SOURCE_IMAGE_DATE: 1996 07 29
SOURCE_IMAGE_ID: NAPP 9157 196
SOURCE_IMAGE_DATE: 1997 09 05
SOURCE_IMAGE_ID: NAPP 9132 116
SOURCE_IMAGE_DATE: 1996 07 29
SOURCE_DEM_DATE: 1964 00 00
AGENCY: WESTERN MAPPING CENTER (WMC)
PRODUCER: UNDEFINED
PRODUCTION_SYSTEM: GIS/MAGIC
COMPRESSION: UNDEFINED
STANDARD_VERSION: 1996 12
METADATA_DATE: 2000 11 16
DATA_FILE_SIZE: 43481928
BYTE_COUNT: 5628
