FILENAME: O4710732.NWS.1115037.tif
QUADRANGLE_NAME: TRUMBO RANCH
QUADRANT: NW
WEST_LONGITUDE: -107 7 30.00000
EAST_LONGITUDE: -107 3 45.00000
NORTH_LATITUDE: 47 37 30.00000
SOUTH_LATITUDE: 47 33 45.00000
PRODUCTION_DATE: 2000 11 16
RASTER_ORDER: LEFT_RIGHT/TOP_BOTTOM
BAND_ORGANIZATION: SINGLE FILE
BAND_CONTENT: BLACK&WHITE
BAND_CONTENT: UNDEFINED
BAND_CONTENT: UNDEFINED
BITS_PER_PIXEL: 8
SAMPLES_AND_LINES: 5537 7677
HORIZONTAL_DATUM: NAD83
HORIZONTAL_COORDINATE_SYSTEM: UTM
COORDINATE_ZONE: 13
HORIZONTAL_UNITS: METERS
HORIZONTAL_RESOLUTION: 1.00000
SECONDARY_HORIZONTAL_DATUM: NAD27
XY_ORIGIN: 339803.00000 5277112.00000
SECONDARY_XY_ORIGIN: 339845.88600 5276891.33400
NATION: US
NATION: "SCIENCE
STATE: MT
NW_QUAD_CORNER_XY: 340342.51900 5276809.60200
NE_QUAD_CORNER_XY: 345038.14100 5276682.78200
SE_QUAD_CORNERY_XY: 344853.44500 5269737.06300
SW_QUAD_CORNER_XY: 340152.22200 5269863.90800
SECONDARY_NW_QUAD_XY: 340337.53300 5276590.89400
SECONDARY_NE_QUAD_XY: 345033.30200 5276464.07000
SECONDARY_SE_QUAD_XY: 344848.60600 5269518.37100
SECONDARY_SW_QUAD_XY: 340147.23600 5269645.22000
RMSE_XY: 2.10000
IMAGE_SOURCE: BLACK AND WHITE FILM
SOURCE_IMAGE_ID: NAPP 9101 129
SOURCE_IMAGE_DATE: 1996 07 15
SOURCE_IMAGE_ID: NAPP 10763 060
SOURCE_IMAGE_DATE: 1997 09 20
SOURCE_IMAGE_ID: NAPP 9101 109
SOURCE_IMAGE_DATE: 1996 07 15
SOURCE_DEM_DATE: 1982 00 00
AGENCY: WESTERN MAPPING CENTER (WMC)
PRODUCER: UNDEFINED
PRODUCTION_SYSTEM: GIS/MAGIC
COMPRESSION: UNDEFINED
STANDARD_VERSION: 1996 12
METADATA_DATE: 2000 11 17
DATA_FILE_SIZE: 42513086
BYTE_COUNT: 5537
