FILENAME: O4710731.SES.1115002.tif
QUADRANGLE_NAME: HELL HOLLOW
QUADRANT: SE
WEST_LONGITUDE: -107 11 15.00000
EAST_LONGITUDE: -107 7 30.00000
NORTH_LATITUDE: 47 33 45.00000
SOUTH_LATITUDE: 47 30 0.00000
PRODUCTION_DATE: 2000 11 16
RASTER_ORDER: LEFT_RIGHT/TOP_BOTTOM
BAND_ORGANIZATION: SINGLE FILE
BAND_CONTENT: BLACK&WHITE
BAND_CONTENT: UNDEFINED
BAND_CONTENT: UNDEFINED
BITS_PER_PIXEL: 8
SAMPLES_AND_LINES: 5548 7681
HORIZONTAL_DATUM: NAD83
HORIZONTAL_COORDINATE_SYSTEM: UTM
COORDINATE_ZONE: 13
HORIZONTAL_UNITS: METERS
HORIZONTAL_RESOLUTION: 1.00000
SECONDARY_HORIZONTAL_DATUM: NAD27
XY_ORIGIN: 334906.00000 5270297.00000
SECONDARY_XY_ORIGIN: 334949.01800 5270076.47000
NATION: US
NATION: "SCIENCE
STATE: MT
NW_QUAD_CORNER_XY: 335451.01500 5269994.54200
NE_QUAD_CORNER_XY: 340152.22200 5269863.90800
SE_QUAD_CORNERY_XY: 339962.11600 5262918.27900
SW_QUAD_CORNER_XY: 335255.31300 5263048.93800
SECONDARY_NW_QUAD_XY: 335445.88400 5269775.85800
SECONDARY_NE_QUAD_XY: 340147.23600 5269645.22000
SECONDARY_SE_QUAD_XY: 339957.13100 5262699.61200
SECONDARY_SW_QUAD_XY: 335250.18200 5262830.27500
RMSE_XY: 1.10000
IMAGE_SOURCE: BLACK AND WHITE FILM
SOURCE_IMAGE_ID: NAPP 9101 224
SOURCE_IMAGE_DATE: 1996 07 15
SOURCE_DEM_DATE: 1982 00 00
AGENCY: WESTERN MAPPING CENTER (WMC)
PRODUCER: UNDEFINED
PRODUCTION_SYSTEM: GIS/MAGIC
COMPRESSION: UNDEFINED
STANDARD_VERSION: 1996 12
METADATA_DATE: 2000 11 17
DATA_FILE_SIZE: 42619736
BYTE_COUNT: 5548
