FILENAME: O4710731.SWS.1115003.tif
QUADRANGLE_NAME: HELL HOLLOW
QUADRANT: SW
WEST_LONGITUDE: -107 15 0.00000
EAST_LONGITUDE: -107 11 15.00000
NORTH_LATITUDE: 47 33 45.00000
SOUTH_LATITUDE: 47 30 0.00000
PRODUCTION_DATE: 2000 11 16
RASTER_ORDER: LEFT_RIGHT/TOP_BOTTOM
BAND_ORGANIZATION: SINGLE FILE
BAND_CONTENT: BLACK&WHITE
BAND_CONTENT: UNDEFINED
BAND_CONTENT: UNDEFINED
BITS_PER_PIXEL: 8
SAMPLES_AND_LINES: 5554 7685
HORIZONTAL_DATUM: NAD83
HORIZONTAL_COORDINATE_SYSTEM: UTM
COORDINATE_ZONE: 13
HORIZONTAL_UNITS: METERS
HORIZONTAL_RESOLUTION: 1.00000
SECONDARY_HORIZONTAL_DATUM: NAD27
XY_ORIGIN: 330199.00000 5270431.00000
SECONDARY_XY_ORIGIN: 330242.12700 5270210.45800
NATION: US
NATION: "SCIENCE
STATE: MT
NW_QUAD_CORNER_XY: 330749.82700 5270128.96500
NE_QUAD_CORNER_XY: 335451.01500 5269994.54200
SE_QUAD_CORNERY_XY: 335255.31300 5263048.93800
SW_QUAD_CORNER_XY: 330548.52800 5263183.38700
SECONDARY_NW_QUAD_XY: 330744.54800 5269910.28600
SECONDARY_NE_QUAD_XY: 335445.88400 5269775.85800
SECONDARY_SE_QUAD_XY: 335250.18200 5262830.27500
SECONDARY_SW_QUAD_XY: 330543.25000 5262964.72900
RMSE_XY: 1.20000
IMAGE_SOURCE: BLACK AND WHITE FILM
SOURCE_IMAGE_ID: NAPP 9101 243
SOURCE_IMAGE_DATE: 1996 07 15
SOURCE_DEM_DATE: 1982 00 00
AGENCY: WESTERN MAPPING CENTER (WMC)
PRODUCER: UNDEFINED
PRODUCTION_SYSTEM: GIS/MAGIC
COMPRESSION: UNDEFINED
STANDARD_VERSION: 1996 12
METADATA_DATE: 2000 11 17
DATA_FILE_SIZE: 42688044
BYTE_COUNT: 5554
