FILENAME: O4710730.NES.1114966.tif
QUADRANGLE_NAME: CHALK BUTTE
QUADRANT: NE
WEST_LONGITUDE: -107 18 45.00000
EAST_LONGITUDE: -107 15 0.00000
NORTH_LATITUDE: 47 37 30.00000
SOUTH_LATITUDE: 47 33 45.00000
PRODUCTION_DATE: 2000 11 9
RASTER_ORDER: LEFT_RIGHT/TOP_BOTTOM
BAND_ORGANIZATION: SINGLE FILE
BAND_CONTENT: BLACK&WHITE
BAND_CONTENT: UNDEFINED
BAND_CONTENT: UNDEFINED
BITS_PER_PIXEL: 8
SAMPLES_AND_LINES: 5554 7689
HORIZONTAL_DATUM: NAD83
HORIZONTAL_COORDINATE_SYSTEM: UTM
COORDINATE_ZONE: 13
HORIZONTAL_UNITS: METERS
HORIZONTAL_RESOLUTION: 1.00000
SECONDARY_HORIZONTAL_DATUM: NAD27
XY_ORIGIN: 325699.00000 5277515.00000
SECONDARY_XY_ORIGIN: 325742.19100 5277294.36100
NATION: US
NATION: "SCIENCE
STATE: MT
NW_QUAD_CORNER_XY: 326255.75900 5277212.79400
NE_QUAD_CORNER_XY: 330951.32800 5277074.60800
SE_QUAD_CORNERY_XY: 330749.82700 5270128.96500
SW_QUAD_CORNER_XY: 326048.65600 5270267.17900
SECONDARY_NW_QUAD_XY: 326250.33300 5276994.09900
SECONDARY_NE_QUAD_XY: 330946.04900 5276855.90800
SECONDARY_SE_QUAD_XY: 330744.54800 5269910.28600
SECONDARY_SW_QUAD_XY: 326043.23000 5270048.50400
RMSE_XY: 1.30000
IMAGE_SOURCE: BLACK AND WHITE FILM
SOURCE_IMAGE_ID: NAPP 9127 046
SOURCE_IMAGE_DATE: 1996 07 15
SOURCE_IMAGE_ID: NAPP 9127 045
SOURCE_IMAGE_DATE: 1996 07 15
SOURCE_DEM_DATE: 1982 00 00
AGENCY: WESTERN MAPPING CENTER (WMC)
PRODUCER: UNDEFINED
PRODUCTION_SYSTEM: GIS/MAGIC
COMPRESSION: UNDEFINED
STANDARD_VERSION: 1996 12
METADATA_DATE: 2000 11 17
DATA_FILE_SIZE: 42710260
BYTE_COUNT: 5554
