FILENAME: O4710730.SES.1114968.tif
QUADRANGLE_NAME: CHALK BUTTE
QUADRANT: SE
WEST_LONGITUDE: -107 18 45.00000
EAST_LONGITUDE: -107 15 0.00000
NORTH_LATITUDE: 47 33 45.00000
SOUTH_LATITUDE: 47 30 0.00000
PRODUCTION_DATE: 2000 11 9
RASTER_ORDER: LEFT_RIGHT/TOP_BOTTOM
BAND_ORGANIZATION: SINGLE FILE
BAND_CONTENT: BLACK&WHITE
BAND_CONTENT: UNDEFINED
BAND_CONTENT: UNDEFINED
BITS_PER_PIXEL: 8
SAMPLES_AND_LINES: 5559 7689
HORIZONTAL_DATUM: NAD83
HORIZONTAL_COORDINATE_SYSTEM: UTM
COORDINATE_ZONE: 13
HORIZONTAL_UNITS: METERS
HORIZONTAL_RESOLUTION: 1.00000
SECONDARY_HORIZONTAL_DATUM: NAD27
XY_ORIGIN: 325492.00000 5270570.00000
SECONDARY_XY_ORIGIN: 325535.18900 5270349.46600
NATION: US
NATION: "SCIENCE
STATE: MT
NW_QUAD_CORNER_XY: 326048.65600 5270267.17900
NE_QUAD_CORNER_XY: 330749.82700 5270128.96500
SE_QUAD_CORNERY_XY: 330548.52800 5263183.38700
SW_QUAD_CORNER_XY: 325841.76000 5263321.62800
SECONDARY_NW_QUAD_XY: 326043.23000 5270048.50400
SECONDARY_NE_QUAD_XY: 330744.54800 5269910.28600
SECONDARY_SE_QUAD_XY: 330543.25000 5262964.72900
SECONDARY_SW_QUAD_XY: 325836.33600 5263102.97400
RMSE_XY: 1.60000
IMAGE_SOURCE: BLACK AND WHITE FILM
SOURCE_IMAGE_ID: NAPP 9127 048
SOURCE_IMAGE_DATE: 1996 07 15
SOURCE_DEM_DATE: 1982 00 00
AGENCY: WESTERN MAPPING CENTER (WMC)
PRODUCER: UNDEFINED
PRODUCTION_SYSTEM: GIS/MAGIC
COMPRESSION: UNDEFINED
STANDARD_VERSION: 1996 12
METADATA_DATE: 2000 11 17
DATA_FILE_SIZE: 42748710
BYTE_COUNT: 5559
